BEGIN:VCALENDAR
VERSION:2.0
PRODID:-//Slovenian Summer Camp - ECPv6.15.20//NONSGML v1.0//EN
CALSCALE:GREGORIAN
METHOD:PUBLISH
X-ORIGINAL-URL:https://sloveniansummercamp.com
X-WR-CALDESC:Events for Slovenian Summer Camp
REFRESH-INTERVAL;VALUE=DURATION:PT1H
X-Robots-Tag:noindex
X-PUBLISHED-TTL:PT1H
BEGIN:VTIMEZONE
TZID:UTC
BEGIN:STANDARD
TZOFFSETFROM:+0000
TZOFFSETTO:+0000
TZNAME:UTC
DTSTART:20230101T000000
END:STANDARD
END:VTIMEZONE
BEGIN:VEVENT
DTSTART;TZID=UTC:20240824T090000
DTEND;TZID=UTC:20240824T180000
DTSTAMP:20260425T091841
CREATED:20240107T072318Z
LAST-MODIFIED:20241229T174416Z
UID:4550-1724490000-1724522400@sloveniansummercamp.com
SUMMARY:Soccer (14-17)
DESCRIPTION:Ages 14-17 \n\n\n\nOrganizer: Maurizio Falzata \n\n\n\nRegistration fee: $10 to be paid at start of event. Lunch is included. \n\n\n\nOnline registration is now open! Registration will close on August 22\, 2024 at 23:59.
URL:https://sloveniansummercamp.com/event/soccer-14-17/
CATEGORIES:Sports
ATTACH;FMTTYPE=image/png:https://sloveniansummercamp.com/wp-content/uploads/2024/01/SOCCERage14-17aug24L-compressed.png
END:VEVENT
BEGIN:VEVENT
DTSTART;TZID=UTC:20240824T090000
DTEND;TZID=UTC:20240824T190000
DTSTAMP:20260425T091841
CREATED:20240107T072423Z
LAST-MODIFIED:20241229T174532Z
UID:4553-1724490000-1724526000@sloveniansummercamp.com
SUMMARY:Soccer (18+)
DESCRIPTION:Ages 18+ \n\n\n\nOrganizer: Joseph Falzata \n\n\n\nRegistration fee: $10 to be paid at start of event. Lunch is included. \n\n\n\nOnline registration is now open! Registration will close on August 22\, 2024 at 23:59.
URL:https://sloveniansummercamp.com/event/soccer-18/
CATEGORIES:Sports
ATTACH;FMTTYPE=image/png:https://sloveniansummercamp.com/wp-content/uploads/2024/01/SOCCERages18aug24L-compressed1.png
END:VEVENT
BEGIN:VEVENT
DTSTART;TZID=UTC:20240824T100000
DTEND;TZID=UTC:20240824T170000
DTSTAMP:20260425T091841
CREATED:20240107T073447Z
LAST-MODIFIED:20241229T174711Z
UID:4574-1724493600-1724518800@sloveniansummercamp.com
SUMMARY:Chess Tournament
DESCRIPTION:Ages 7+ \n\n\n\nOrganizer: John Muhic \n\n\n\nRegistration fee: $10. \n\n\n\nOnline registration is now open!  Registration will close on August 23\, 2024 at 23:59.
URL:https://sloveniansummercamp.com/event/chess-tournament/
CATEGORIES:Sports
ATTACH;FMTTYPE=image/png:https://sloveniansummercamp.com/wp-content/uploads/2024/01/CHESSaug24L-compressed.png
END:VEVENT
END:VCALENDAR