BEGIN:VCALENDAR
VERSION:2.0
PRODID:-//Slovenian Summer Camp - ECPv6.15.20//NONSGML v1.0//EN
CALSCALE:GREGORIAN
METHOD:PUBLISH
X-ORIGINAL-URL:https://sloveniansummercamp.com
X-WR-CALDESC:Events for Slovenian Summer Camp
REFRESH-INTERVAL;VALUE=DURATION:PT1H
X-Robots-Tag:noindex
X-PUBLISHED-TTL:PT1H
BEGIN:VTIMEZONE
TZID:America/Halifax
BEGIN:DAYLIGHT
TZOFFSETFROM:-0400
TZOFFSETTO:-0300
TZNAME:ADT
DTSTART:20240310T060000
END:DAYLIGHT
BEGIN:STANDARD
TZOFFSETFROM:-0300
TZOFFSETTO:-0400
TZNAME:AST
DTSTART:20241103T050000
END:STANDARD
BEGIN:DAYLIGHT
TZOFFSETFROM:-0400
TZOFFSETTO:-0300
TZNAME:ADT
DTSTART:20250309T060000
END:DAYLIGHT
BEGIN:STANDARD
TZOFFSETFROM:-0300
TZOFFSETTO:-0400
TZNAME:AST
DTSTART:20251102T050000
END:STANDARD
BEGIN:DAYLIGHT
TZOFFSETFROM:-0400
TZOFFSETTO:-0300
TZNAME:ADT
DTSTART:20260308T060000
END:DAYLIGHT
BEGIN:STANDARD
TZOFFSETFROM:-0300
TZOFFSETTO:-0400
TZNAME:AST
DTSTART:20261101T050000
END:STANDARD
END:VTIMEZONE
BEGIN:VEVENT
DTSTART;TZID=America/Halifax:20250622T114500
DTEND;TZID=America/Halifax:20250622T170000
DTSTAMP:20260424T233217
CREATED:20240921T201115Z
LAST-MODIFIED:20240921T201527Z
UID:5545-1750592700-1750611600@sloveniansummercamp.com
SUMMARY:Telovska Procesija
DESCRIPTION:Mass starts at 11:45 am. The procession of the blessed sacrament will take place following mass. Attendees are encouraged to dress in their narodna noša.
URL:https://sloveniansummercamp.com/event/telovska-procesija/
CATEGORIES:Cultural Events
ATTACH;FMTTYPE=image/png:https://sloveniansummercamp.com/wp-content/uploads/2024/09/telovska-procesija-landscape-compressed.png
END:VEVENT
END:VCALENDAR