BEGIN:VCALENDAR
VERSION:2.0
PRODID:-//Slovenian Summer Camp - ECPv6.15.20//NONSGML v1.0//EN
CALSCALE:GREGORIAN
METHOD:PUBLISH
X-ORIGINAL-URL:https://sloveniansummercamp.com
X-WR-CALDESC:Events for Slovenian Summer Camp
REFRESH-INTERVAL;VALUE=DURATION:PT1H
X-Robots-Tag:noindex
X-PUBLISHED-TTL:PT1H
BEGIN:VTIMEZONE
TZID:America/Toronto
BEGIN:DAYLIGHT
TZOFFSETFROM:-0500
TZOFFSETTO:-0400
TZNAME:EDT
DTSTART:20250309T070000
END:DAYLIGHT
BEGIN:STANDARD
TZOFFSETFROM:-0400
TZOFFSETTO:-0500
TZNAME:EST
DTSTART:20251102T060000
END:STANDARD
BEGIN:DAYLIGHT
TZOFFSETFROM:-0500
TZOFFSETTO:-0400
TZNAME:EDT
DTSTART:20260308T070000
END:DAYLIGHT
BEGIN:STANDARD
TZOFFSETFROM:-0400
TZOFFSETTO:-0500
TZNAME:EST
DTSTART:20261101T060000
END:STANDARD
BEGIN:DAYLIGHT
TZOFFSETFROM:-0500
TZOFFSETTO:-0400
TZNAME:EDT
DTSTART:20270314T070000
END:DAYLIGHT
BEGIN:STANDARD
TZOFFSETFROM:-0400
TZOFFSETTO:-0500
TZNAME:EST
DTSTART:20271107T060000
END:STANDARD
END:VTIMEZONE
BEGIN:VEVENT
DTSTART;TZID=America/Toronto:20260214T180000
DTEND;TZID=America/Toronto:20260214T235900
DTSTAMP:20260424T140358
CREATED:20251105T032425Z
LAST-MODIFIED:20260213T023637Z
UID:22749-1771092000-1771113540@sloveniansummercamp.com
SUMMARY:Pustna Zabava
DESCRIPTION:Join us for our annual Pustna Zabava (being held at Our Lady of Miraculous Medal Church hall\, 739 Browns Line). Enjoy a fantastic dinner in the company of your friends. Dress up in your best costume for a chance to win a cash prize. Try your luck in the raffle then dance the night away to the music by Golden Keys. \n\n\n\nDoors open at 6:00 pm. Dinner served at 7:00 pm. \n\n\n\nTicket draw for the raffle prizes will take place during dinner\, so make sure to purchase your tickets when you arrive! \n\n\n\nIf you would like to participate in the costume contest\, please have your picture taken before dinner for the online voting poll. \n\n\n\nMake sure to scan the QR code at your table to access the online voting poll and vote for your favourite costumes. \n\n\n\n$20 cover charge for all guests joining the festivities after dinner. \n\n\n\n\n\n\n\nA limited number of Pustna Zabava tickets are still available…to inquire fill out the form below.\n\n\n\n\n\n\nContact Tickets Waitlist\n\n\n\n\n\n\n\n\n    Name\n        *\n    \n    \n	\n		Name	\n\n	\n					\n				\n					Last				\n\n				Last			\n						\n				\n					First				\n\n				First			\n				\n\n\n    \n    \n\n\n    Email\n        *\n    \n    \n    \n    \n\n\n	Phone\n		*\n	\n	\n	\n	\n\n\nHow many tickets?\n\n\n\n	Adult\n		\n	\n	\n	\n	\n\n\n	Youth 3-12 years\n		\n	\n	\n	\n	\n\n\n	Child 0-2 years\n		\n	\n	\n	\n	\n\n\n\n    Please list First and Last name of all guests\n        *\n    \n    \n    \n    \n\n\n    Comments\n        \n    \n    \n    \n    \n\nCompleting and submitting this form will add your name and ticket request to the waiting list. \nIf your ticket request can be fulfilled\, you will be notified by email.\n\n	Terms and Conditions\n		*\n	\n						\n			 I agree\n\n	\n	\n\n\n    Captcha\n        \n    \n    \n    \n    \n\n\n	\nSubmit\n\n\n\n\n\n	\n			\n			\n				If you are human\, leave this field blank.			\n			\n		\n		\n\n\n\n\n\n\n\n\n\n\n\n\nHave questions about the event? Contact the organizer using the form below…\n\n\n\n\n\n\nContact Tickets\n\n\n\n\n\n\n\n\n    Name\n        *\n    \n    \n	\n		Name	\n\n	\n					\n				\n					Last				\n\n				Last			\n						\n				\n					First				\n\n				First			\n				\n\n\n    \n    \n\n\n    Email\n        *\n    \n    \n    \n    \n\n\n    Subject\n        *\n    \n    \n    \n    \n\n\n    Message\n        *\n    \n    \n    \n    \n\n\n    Captcha\n        \n    \n    \n    \n    \n\n\n	\nSubmit\n\n\n\n\n\n	\n			\n			\n				If you are human\, leave this field blank.
URL:https://sloveniansummercamp.com/event/pustna-zabava-3/
CATEGORIES:Cultural Events
ATTACH;FMTTYPE=image/png:https://sloveniansummercamp.com/wp-content/uploads/2025/11/PUSTNA-ZABAVA2026-compressed-1.png
END:VEVENT
END:VCALENDAR