BEGIN:VCALENDAR
VERSION:2.0
PRODID:-//Slovenian Summer Camp - ECPv6.15.20//NONSGML v1.0//EN
CALSCALE:GREGORIAN
METHOD:PUBLISH
X-ORIGINAL-URL:https://sloveniansummercamp.com
X-WR-CALDESC:Events for Slovenian Summer Camp
REFRESH-INTERVAL;VALUE=DURATION:PT1H
X-Robots-Tag:noindex
X-PUBLISHED-TTL:PT1H
BEGIN:VTIMEZONE
TZID:UTC
BEGIN:STANDARD
TZOFFSETFROM:+0000
TZOFFSETTO:+0000
TZNAME:UTC
DTSTART:20230101T000000
END:STANDARD
END:VTIMEZONE
BEGIN:VEVENT
DTSTART;TZID=UTC:20240602T114500
DTEND;TZID=UTC:20240602T150000
DTSTAMP:20260425T102729
CREATED:20240107T062758Z
LAST-MODIFIED:20240417T213051Z
UID:4518-1717328700-1717340400@sloveniansummercamp.com
SUMMARY:Telovska Procesija
DESCRIPTION:Mass starts at 11:45 am.  The procession of the blessed sacrament will take place following mass.  Attendees are encouraged to dress in their narodna noša.
URL:https://sloveniansummercamp.com/event/telova-procesija/
CATEGORIES:Cultural Events
ATTACH;FMTTYPE=image/png:https://sloveniansummercamp.com/wp-content/uploads/2024/01/Telova-Procesija-landscape-compressed-1.png
END:VEVENT
BEGIN:VEVENT
DTSTART;TZID=UTC:20240630T114500
DTEND;TZID=UTC:20240630T210000
DTSTAMP:20260425T102729
CREATED:20240107T062902Z
LAST-MODIFIED:20240626T194124Z
UID:4520-1719747900-1719781200@sloveniansummercamp.com
SUMMARY:Slovenski Dan
DESCRIPTION:Come join us for our 63rd Slovenski Dan at the Slovenian Summer Camp and help us celebrate all things Slovenian.   \n\n\n\nMass starts at 11:45 am.  The kitchen will open at 1:00 pm to serve lunch prepared by our talented members.  Sit back and enjoy the cultural program then take a spin on the dance floor to music by Ansambel Šibaj. \n\n\n\nSee you there!
URL:https://sloveniansummercamp.com/event/slovenski-dan/
CATEGORIES:Cultural Events
ATTACH;FMTTYPE=image/png:https://sloveniansummercamp.com/wp-content/uploads/2024/01/slovenski-dan-landscape-compressed.png
END:VEVENT
END:VCALENDAR