BEGIN:VCALENDAR
VERSION:2.0
PRODID:-//Slovenian Summer Camp - ECPv6.15.20//NONSGML v1.0//EN
CALSCALE:GREGORIAN
METHOD:PUBLISH
X-WR-CALNAME:Slovenian Summer Camp
X-ORIGINAL-URL:https://sloveniansummercamp.com
X-WR-CALDESC:Events for Slovenian Summer Camp
REFRESH-INTERVAL;VALUE=DURATION:PT1H
X-Robots-Tag:noindex
X-PUBLISHED-TTL:PT1H
BEGIN:VTIMEZONE
TZID:America/Toronto
BEGIN:DAYLIGHT
TZOFFSETFROM:-0500
TZOFFSETTO:-0400
TZNAME:EDT
DTSTART:20250309T070000
END:DAYLIGHT
BEGIN:STANDARD
TZOFFSETFROM:-0400
TZOFFSETTO:-0500
TZNAME:EST
DTSTART:20251102T060000
END:STANDARD
BEGIN:DAYLIGHT
TZOFFSETFROM:-0500
TZOFFSETTO:-0400
TZNAME:EDT
DTSTART:20260308T070000
END:DAYLIGHT
BEGIN:STANDARD
TZOFFSETFROM:-0400
TZOFFSETTO:-0500
TZNAME:EST
DTSTART:20261101T060000
END:STANDARD
BEGIN:DAYLIGHT
TZOFFSETFROM:-0500
TZOFFSETTO:-0400
TZNAME:EDT
DTSTART:20270314T070000
END:DAYLIGHT
BEGIN:STANDARD
TZOFFSETFROM:-0400
TZOFFSETTO:-0500
TZNAME:EST
DTSTART:20271107T060000
END:STANDARD
END:VTIMEZONE
BEGIN:VEVENT
DTSTART;TZID=America/Toronto:20260607T114500
DTEND;TZID=America/Toronto:20260607T150000
DTSTAMP:20260424T140404
CREATED:20251110T165103Z
LAST-MODIFIED:20260105T175959Z
UID:22755-1780832700-1780844400@sloveniansummercamp.com
SUMMARY:Telovska Procesija
DESCRIPTION:Telovska Procesija (Corpus Christi Procession) is a cherished Slovenian tradition at the SSC\, bringing our community together in prayer\, song\, and cultural pride. Mass begins at 11:45 a.m.\, followed by the Procession of the Blessed Sacrament. Attendees are encouraged to wear their narodna noša. \n\n\n\nRefreshments and a delicious homemade lunch prepared by our talented home cooks will be available for purchase.
URL:https://sloveniansummercamp.com/event/telovska-procesija-2/
CATEGORIES:Cultural Events
ATTACH;FMTTYPE=image/png:https://sloveniansummercamp.com/wp-content/uploads/2025/11/TELOVSKA-PROCESIJA2026-compressed.png
END:VEVENT
END:VCALENDAR