BEGIN:VCALENDAR
VERSION:2.0
PRODID:-//Slovenian Summer Camp - ECPv6.15.20//NONSGML v1.0//EN
CALSCALE:GREGORIAN
METHOD:PUBLISH
X-WR-CALNAME:Slovenian Summer Camp
X-ORIGINAL-URL:https://sloveniansummercamp.com
X-WR-CALDESC:Events for Slovenian Summer Camp
REFRESH-INTERVAL;VALUE=DURATION:PT1H
X-Robots-Tag:noindex
X-PUBLISHED-TTL:PT1H
BEGIN:VTIMEZONE
TZID:America/Halifax
BEGIN:DAYLIGHT
TZOFFSETFROM:-0400
TZOFFSETTO:-0300
TZNAME:ADT
DTSTART:20240310T060000
END:DAYLIGHT
BEGIN:STANDARD
TZOFFSETFROM:-0300
TZOFFSETTO:-0400
TZNAME:AST
DTSTART:20241103T050000
END:STANDARD
BEGIN:DAYLIGHT
TZOFFSETFROM:-0400
TZOFFSETTO:-0300
TZNAME:ADT
DTSTART:20250309T060000
END:DAYLIGHT
BEGIN:STANDARD
TZOFFSETFROM:-0300
TZOFFSETTO:-0400
TZNAME:AST
DTSTART:20251102T050000
END:STANDARD
BEGIN:DAYLIGHT
TZOFFSETFROM:-0400
TZOFFSETTO:-0300
TZNAME:ADT
DTSTART:20260308T060000
END:DAYLIGHT
BEGIN:STANDARD
TZOFFSETFROM:-0300
TZOFFSETTO:-0400
TZNAME:AST
DTSTART:20261101T050000
END:STANDARD
END:VTIMEZONE
BEGIN:VEVENT
DTSTART;TZID=America/Halifax:20251004T090000
DTEND;TZID=America/Halifax:20251005T140000
DTSTAMP:20260424T191626
CREATED:20241021T174507Z
LAST-MODIFIED:20251004T163847Z
UID:5606-1759568400-1759672800@sloveniansummercamp.com
SUMMARY:Apple Strudel Fest
DESCRIPTION:It’s apple season and we are once again making our famous apple strudel. \n\n\n\n$20 per strudel \n\n\n\nStrudel order pick up Sunday October 5\, 2025 from 1:00 pm to 2:00 pm at the SSC Hall. \n\n\n\n\n\n\n\n\n\n\n\nWould you like to lend us a hand making the strudel? Sign up here…\n\n\n\n\nsign up for strudel making
URL:https://sloveniansummercamp.com/event/apple-strudel-fest/
CATEGORIES:Cultural Events
ATTACH;FMTTYPE=image/png:https://sloveniansummercamp.com/wp-content/uploads/2024/10/strudelfest-2025-landscape-compressed.png
END:VEVENT
END:VCALENDAR