BEGIN:VCALENDAR
VERSION:2.0
PRODID:-//Slovenian Summer Camp - ECPv6.15.20//NONSGML v1.0//EN
CALSCALE:GREGORIAN
METHOD:PUBLISH
X-WR-CALNAME:Slovenian Summer Camp
X-ORIGINAL-URL:https://sloveniansummercamp.com
X-WR-CALDESC:Events for Slovenian Summer Camp
REFRESH-INTERVAL;VALUE=DURATION:PT1H
X-Robots-Tag:noindex
X-PUBLISHED-TTL:PT1H
BEGIN:VTIMEZONE
TZID:UTC
BEGIN:STANDARD
TZOFFSETFROM:+0000
TZOFFSETTO:+0000
TZNAME:UTC
DTSTART:20230101T000000
END:STANDARD
END:VTIMEZONE
BEGIN:VEVENT
DTSTART;TZID=UTC:20240706T083000
DTEND;TZID=UTC:20240706T180000
DTSTAMP:20260425T094420
CREATED:20240107T064547Z
LAST-MODIFIED:20241229T165334Z
UID:4532-1720254600-1720288800@sloveniansummercamp.com
SUMMARY:Balinanje
DESCRIPTION:Ages 16+ \n\n\n\nOrganizer: Val Koncan \n\n\n\nSign up in person at the Balina Courts at 8:30 am. \n\n\n\nRegistration fee: $10 to be paid at start of event.
URL:https://sloveniansummercamp.com/event/balinanje/
CATEGORIES:Sports
ATTACH;FMTTYPE=image/png:https://sloveniansummercamp.com/wp-content/uploads/2024/01/balinanjejuly6Lcompressed.png
ORGANIZER;CN="Val Koncan":MAILTO:vkoncan@sloveniansummercamp.com
END:VEVENT
BEGIN:VEVENT
DTSTART;TZID=UTC:20240706T100000
DTEND;TZID=UTC:20240706T170000
DTSTAMP:20260425T094420
CREATED:20240107T065116Z
LAST-MODIFIED:20240705T042223Z
UID:4540-1720260000-1720285200@sloveniansummercamp.com
SUMMARY:Family Fun Day
DESCRIPTION:All Ages \n\n\n\nOrganizer: Melanie Zigante \n\n\n\nCome join us for a fun filled day of games\, activities and prizes!   \n\n\n\nNo registration fee.  Lunch and snacks will be available for purchase. \n\n\n\n\n\n\n\n\n\n\n\n\nSurf the wave!\n\n\n\nExplore a castle!
URL:https://sloveniansummercamp.com/event/family-fun-day/
CATEGORIES:Sports
ATTACH;FMTTYPE=image/png:https://sloveniansummercamp.com/wp-content/uploads/2024/01/FAMILYFUNDAYjuly6L-compressed.png
END:VEVENT
BEGIN:VEVENT
DTSTART;TZID=UTC:20240713T084500
DTEND;TZID=UTC:20240713T170000
DTSTAMP:20260425T094420
CREATED:20240107T065158Z
LAST-MODIFIED:20241229T172139Z
UID:4543-1720860300-1720890000@sloveniansummercamp.com
SUMMARY:Adult Pickle Ball
DESCRIPTION:Ages 20+ \n\n\n\nOrganizer: John Ulcar
URL:https://sloveniansummercamp.com/event/adult-pickle-ball/
CATEGORIES:Sports
ATTACH;FMTTYPE=image/png:https://sloveniansummercamp.com/wp-content/uploads/2024/01/ADULTPICKLEBALLjuly13age20L-compressed.png
END:VEVENT
BEGIN:VEVENT
DTSTART;TZID=UTC:20240713T084500
DTEND;TZID=UTC:20240713T170000
DTSTAMP:20260425T094420
CREATED:20240107T065023Z
LAST-MODIFIED:20241229T170124Z
UID:4537-1720860300-1720890000@sloveniansummercamp.com
SUMMARY:Pickle Ball Clinic
DESCRIPTION:DUE TO PREDICTED INCLEMENT WEATHER FOR SATURDAY JUNE 29TH\, THE PICKLE BALL CLINIC WILL NOW TAKE PLACE ON JULY 13TH INSTEAD!\n\n\n\n\n\n\n\nAll ages \n\n\n\nOrganizer: John Ulcar \n\n\n\nRegistration is free.  \n\n\n\nPlease wear running shoes and comfortable attire.  No sandals or flip flops. \n\n\n\nOnline registration is now open! Registration will close on June 11\, 2024 at 23:59.
URL:https://sloveniansummercamp.com/event/pickle-ball-clinic/
CATEGORIES:Sports
ATTACH;FMTTYPE=image/png:https://sloveniansummercamp.com/wp-content/uploads/2024/01/PICKLEBALLCLINICjune29L-compressed.png
END:VEVENT
BEGIN:VEVENT
DTSTART;TZID=UTC:20240720T090000
DTEND;TZID=UTC:20240720T190000
DTSTAMP:20260425T094420
CREATED:20240107T071953Z
LAST-MODIFIED:20241229T171957Z
UID:4545-1721466000-1721502000@sloveniansummercamp.com
SUMMARY:Youth Volleyball
DESCRIPTION:Ages 18+ \n\n\n\nOrganizer: Tea Falzata \n\n\n\nRegistration fee: $10 to be paid at start of event.  Lunch is included.
URL:https://sloveniansummercamp.com/event/youth-volleyball/
CATEGORIES:Sports
ATTACH;FMTTYPE=image/png:https://sloveniansummercamp.com/wp-content/uploads/2024/01/YOUTHVOLLEYBALLjuly20L-compressed.png
END:VEVENT
BEGIN:VEVENT
DTSTART;TZID=UTC:20240727T084500
DTEND;TZID=UTC:20240727T140000
DTSTAMP:20260425T094420
CREATED:20240107T072049Z
LAST-MODIFIED:20241229T172504Z
UID:4548-1722069900-1722088800@sloveniansummercamp.com
SUMMARY:Kids Pickle Ball
DESCRIPTION:Kids 12 and under play from 8:45 AM to 11:00 AM. \n\n\n\nKids 13-19 play from 11:45 to 2:00 PM. \n\n\n\nOrganizer: John Ulcar \n\n\n\nRegistration for this event is free.
URL:https://sloveniansummercamp.com/event/kids-pickle-ball/
CATEGORIES:Sports
ATTACH;FMTTYPE=image/png:https://sloveniansummercamp.com/wp-content/uploads/2024/01/KIDSPICKLEBALLjuly27L-compressed.png
END:VEVENT
BEGIN:VEVENT
DTSTART;TZID=UTC:20240728T150000
DTEND;TZID=UTC:20240728T180000
DTSTAMP:20260425T094420
CREATED:20240107T072509Z
LAST-MODIFIED:20241229T172642Z
UID:4556-1722178800-1722189600@sloveniansummercamp.com
SUMMARY:Table Tennis
DESCRIPTION:Ages 16+ \n\n\n\nOrganizer: Stan Ulcar \n\n\n\nRegistration is free. \n\n\n\nSign up in person at the Sports Deck from 2:30 to 3:00 pm. Event starts at 3:00 pm. \n\n\n\nSee you there!
URL:https://sloveniansummercamp.com/event/table-tennis/
CATEGORIES:Sports
ATTACH;FMTTYPE=image/png:https://sloveniansummercamp.com/wp-content/uploads/2024/01/TABLETENNISjuly28L-compressed.png
END:VEVENT
END:VCALENDAR