BEGIN:VCALENDAR
VERSION:2.0
PRODID:-//Slovenian Summer Camp - ECPv6.15.20//NONSGML v1.0//EN
CALSCALE:GREGORIAN
METHOD:PUBLISH
X-ORIGINAL-URL:https://sloveniansummercamp.com
X-WR-CALDESC:Events for Slovenian Summer Camp
REFRESH-INTERVAL;VALUE=DURATION:PT1H
X-Robots-Tag:noindex
X-PUBLISHED-TTL:PT1H
BEGIN:VTIMEZONE
TZID:UTC
BEGIN:STANDARD
TZOFFSETFROM:+0000
TZOFFSETTO:+0000
TZNAME:UTC
DTSTART:20230101T000000
END:STANDARD
END:VTIMEZONE
BEGIN:VEVENT
DTSTART;TZID=UTC:20240831T083000
DTEND;TZID=UTC:20240831T180000
DTSTAMP:20260425T082635
CREATED:20240107T073758Z
LAST-MODIFIED:20241229T174801Z
UID:4579-1725093000-1725127200@sloveniansummercamp.com
SUMMARY:Balinanje
DESCRIPTION:Ages 16+ \n\n\n\nOrganizer: Val Koncan \n\n\n\nSign up in person at the Balina Courts at 8:30 am. \n\n\n\nRegistration fee: $20 to be paid at start of event. Lunch is included. \n\n\n\nHave a question?  Contact the organizer using the form below. \n\n\n\nSee you there!
URL:https://sloveniansummercamp.com/event/balinanje-2/
CATEGORIES:Sports
ATTACH;FMTTYPE=image/png:https://sloveniansummercamp.com/wp-content/uploads/2024/01/BALINANJEaug31L-compressed.png
ORGANIZER;CN="Val Koncan":MAILTO:vkoncan@sloveniansummercamp.com
END:VEVENT
END:VCALENDAR