BEGIN:VCALENDAR
VERSION:2.0
PRODID:-//Slovenian Summer Camp - ECPv6.15.20//NONSGML v1.0//EN
CALSCALE:GREGORIAN
METHOD:PUBLISH
X-WR-CALNAME:Slovenian Summer Camp
X-ORIGINAL-URL:https://sloveniansummercamp.com
X-WR-CALDESC:Events for Slovenian Summer Camp
REFRESH-INTERVAL;VALUE=DURATION:PT1H
X-Robots-Tag:noindex
X-PUBLISHED-TTL:PT1H
BEGIN:VTIMEZONE
TZID:America/Halifax
BEGIN:DAYLIGHT
TZOFFSETFROM:-0400
TZOFFSETTO:-0300
TZNAME:ADT
DTSTART:20240310T060000
END:DAYLIGHT
BEGIN:STANDARD
TZOFFSETFROM:-0300
TZOFFSETTO:-0400
TZNAME:AST
DTSTART:20241103T050000
END:STANDARD
BEGIN:DAYLIGHT
TZOFFSETFROM:-0400
TZOFFSETTO:-0300
TZNAME:ADT
DTSTART:20250309T060000
END:DAYLIGHT
BEGIN:STANDARD
TZOFFSETFROM:-0300
TZOFFSETTO:-0400
TZNAME:AST
DTSTART:20251102T050000
END:STANDARD
BEGIN:DAYLIGHT
TZOFFSETFROM:-0400
TZOFFSETTO:-0300
TZNAME:ADT
DTSTART:20260308T060000
END:DAYLIGHT
BEGIN:STANDARD
TZOFFSETFROM:-0300
TZOFFSETTO:-0400
TZNAME:AST
DTSTART:20261101T050000
END:STANDARD
END:VTIMEZONE
BEGIN:VEVENT
DTSTART;TZID=America/Halifax:20250817T091500
DTEND;TZID=America/Halifax:20250817T190000
DTSTAMP:20260424T213934
CREATED:20250122T045341Z
LAST-MODIFIED:20250814T150404Z
UID:13367-1755422100-1755457200@sloveniansummercamp.com
SUMMARY:Family Volleyball
DESCRIPTION:Organizer: Francka McCormick \n\n\n\nRegistration for this event is free with admission to the Slovenian Summer Camp. No lunch provided for this event. \n\n\n\nRegistration is now closed.  \n\n\n\n\n\n\n\nHave questions? Contact the organizer using the form below.\n\n\n\n\n\n\nContact Organizer – Francka McCormick\n\n\n\n\n\n\n\n\n    Name\n        *\n    \n    \n	\n		Name	\n\n	\n					\n				\n					Last				\n\n				Last			\n						\n				\n					First				\n\n				First			\n				\n\n\n    \n    \n\n\n    Email\n        *\n    \n    \n    \n    \n\n\n    Subject\n        *\n    \n    \n    \n    \n\n\n    Message\n        *\n    \n    \n    \n    \n\n\n    Captcha\n        \n    \n    \n    \n    \n\n\n	\nSubmit\n\n\n\n\n\n	\n			\n			\n				If you are human\, leave this field blank.			\n			\n		\n		\n\n\n\n\n\n\n\n\n\n\n\n\nParticipants registered for this event\n\n\n \n\n\n\nParticipant name\n\n\n\n\nAnica Jakopin\n\n\nVlahovic Jana\n\n\nAnica Vlahovic\n\n\nPodobnik Anya\n\n\nVlahovic Maja\n\n\nMcCormick Mady\n\n\nBratovz Marko\n\n\nBratovz April\n\n\nBratovz Jacob\n\n\nBratovz Ella\n\n\nNovak Maja\n\n\nJakopin Francka\n\n\nŽabjek Will\n\n\nZigante Melanie\n\n\nZigante Daniel\n\n\nZigante Danijela\n\n\nZigante Andrej\n\n\nZigante Justin\n\n\nJakopin Sofia\n\n\nSlidders Jason\n\n\nAndrejka Bratovz\n\n\nRice Malcolm\n\n\nUlcar Bobby\n\n\nUlcar Ethan\n\n\nUlcar Leilani\n\n\nHauka Rowyn
URL:https://sloveniansummercamp.com/event/family-volleyball/
CATEGORIES:Sports
ATTACH;FMTTYPE=image/png:https://sloveniansummercamp.com/wp-content/uploads/2025/01/FAMILY-VOLLEYVALL-COMPRESSED.png
END:VEVENT
END:VCALENDAR