BEGIN:VCALENDAR
VERSION:2.0
PRODID:-//Slovenian Summer Camp - ECPv6.15.20//NONSGML v1.0//EN
CALSCALE:GREGORIAN
METHOD:PUBLISH
X-WR-CALNAME:Slovenian Summer Camp
X-ORIGINAL-URL:https://sloveniansummercamp.com
X-WR-CALDESC:Events for Slovenian Summer Camp
REFRESH-INTERVAL;VALUE=DURATION:PT1H
X-Robots-Tag:noindex
X-PUBLISHED-TTL:PT1H
BEGIN:VTIMEZONE
TZID:America/Halifax
BEGIN:DAYLIGHT
TZOFFSETFROM:-0400
TZOFFSETTO:-0300
TZNAME:ADT
DTSTART:20240310T060000
END:DAYLIGHT
BEGIN:STANDARD
TZOFFSETFROM:-0300
TZOFFSETTO:-0400
TZNAME:AST
DTSTART:20241103T050000
END:STANDARD
BEGIN:DAYLIGHT
TZOFFSETFROM:-0400
TZOFFSETTO:-0300
TZNAME:ADT
DTSTART:20250309T060000
END:DAYLIGHT
BEGIN:STANDARD
TZOFFSETFROM:-0300
TZOFFSETTO:-0400
TZNAME:AST
DTSTART:20251102T050000
END:STANDARD
BEGIN:DAYLIGHT
TZOFFSETFROM:-0400
TZOFFSETTO:-0300
TZNAME:ADT
DTSTART:20260308T060000
END:DAYLIGHT
BEGIN:STANDARD
TZOFFSETFROM:-0300
TZOFFSETTO:-0400
TZNAME:AST
DTSTART:20261101T050000
END:STANDARD
END:VTIMEZONE
BEGIN:VEVENT
DTSTART;TZID=America/Halifax:20250823T090000
DTEND;TZID=America/Halifax:20250824T180000
DTSTAMP:20260424T213953
CREATED:20250122T045503Z
LAST-MODIFIED:20260112T200253Z
UID:13369-1755939600-1756058400@sloveniansummercamp.com
SUMMARY:Baseball
DESCRIPTION:Ages 18+ \n\n\n\nOrganizer: David Koncan \n\n\n\nRegistration fee: $20 to be paid by E-transfer prior to event. Lunch is included. \n\n\n\nThe registration fee does not include admission to the Slovenian Summer Camp. Each participant is required to purchase a weekend pass or hold a valid season’s pass to participate in the event. \n\n\n\nOnline registration is now open. Online registration will close on August 15\, 2025 or when registration reaches 66 participants\, whichever comes first. \n\n\n\n\n\n\n\nKoncan Klassic Softball Registration\n\n\nThis form is currently closed for submissions.  Please contact the organizer using the Contact Organizer form. \n\n\n\n\n\n\nHave questions about the event? Contact the organizer using the form below.\n\n\n\n\n\n\nContact Organizer – David Koncan\n\n\n\n\n\n\n\n\n    Name\n        *\n    \n    \n	\n		Name	\n\n	\n					\n				\n					Last				\n\n				Last			\n						\n				\n					First				\n\n				First			\n				\n\n\n    \n    \n\n\n    Email\n        *\n    \n    \n    \n    \n\n\n    Subject\n        *\n    \n    \n    \n    \n\n\n    Message\n        *\n    \n    \n    \n    \n\n\n    Captcha\n        \n    \n    \n    \n    \n\n\n	\nSubmit\n\n\n\n\n\n	\n			\n			\n				If you are human\, leave this field blank.			\n			\n		\n		\n\n\n\n\n\n\n\n\n\n\n\n\nTournament Schedule\n\n\n\n\n			\n				\n					Loading\n				\n				 \n				 \n				 \n			\n		 \n\n\n\n\n\n\n\nParticipants registered for this event\n\n\n \n\n\n\nParticipant name\n\n\n\n\nLaszutko Mark\n\n\nKaitlyn Kaitlyn\n\n\nPlesko Andrew\n\n\nUlcar Mark\n\n\nPurcell Megan\n\n\nPurcell dylan\n\n\npurcell thomas\n\n\nPurcell parker\n\n\nPapa Klemem\n\n\nPapa Alex\n\n\nPapa Anthony\n\n\nPapa Joseph\n\n\nPapa Robert\n\n\nSimon Jaklic\n\n\nJaklic Grace\n\n\nMcKean Connor\n\n\nPlatt Teresa\n\n\nJaklic Elise\n\n\nLarkin Brad\n\n\nKastelic Thomas\n\n\nByrne Owen\n\n\nMarciano Kevin\n\n\nPapa Tony\n\n\nKus Christine\n\n\nRighi Christopher\n\n\nWillamowicz Julian\n\n\nTzemis Steven\n\n\nLastelic Brian\n\n\nPlesko David\n\n\nKoncan Greg\n\n\nHull Daniel\n\n\nEric Davis\n\n\nADAMICH JORDAN\n\n\nAdamich Joey\n\n\nDolenc Luke\n\n\nKajin Matthew\n\n\nStanisa Christina\n\n\nMattina Mike\n\n\nMattina Mike\n\n\nTratnik Marisa\n\n\nKomljanec Anthony\n\n\nKomljanec Christopher\n\n\nlunn jeff\n\n\nSkok Alek\n\n\nVerbitsky Dominik\n\n\nBielawa Amy\n\n\nBielawa Amy\n\n\nWickham Monika\n\n\nKoncan Diana\n\n\nTratnik Nicole\n\n\nKončan Steven\n\n\nPodobnik Karolina\n\n\nVulic Daniel\n\n\nRice Malcolm\n\n\nJambor Jan\n\n\nBradt Brandon\n\n\nKrevs Mark\n\n\nEdsid Amanda\n\n\nMenezes Myron\n\n\nMicallef Andrew\n\n\nStanisa Michael\n\n\nLevstik Petet\n\n\nFalzata Tea\n\n\nRodriguez Guerra Alejandro\n\n\nFalzata Joseph\n\n\nBest Kyle
URL:https://sloveniansummercamp.com/event/koncan-klassic-softball/
CATEGORIES:Sports
ATTACH;FMTTYPE=image/png:https://sloveniansummercamp.com/wp-content/uploads/2025/01/KONCAN-KLASSIC-SOFTBALL-COMPRESSED.png
END:VEVENT
END:VCALENDAR