BEGIN:VCALENDAR
VERSION:2.0
PRODID:-//Slovenian Summer Camp - ECPv6.15.20//NONSGML v1.0//EN
CALSCALE:GREGORIAN
METHOD:PUBLISH
X-WR-CALNAME:Slovenian Summer Camp
X-ORIGINAL-URL:https://sloveniansummercamp.com
X-WR-CALDESC:Events for Slovenian Summer Camp
REFRESH-INTERVAL;VALUE=DURATION:PT1H
X-Robots-Tag:noindex
X-PUBLISHED-TTL:PT1H
BEGIN:VTIMEZONE
TZID:America/Toronto
BEGIN:DAYLIGHT
TZOFFSETFROM:-0500
TZOFFSETTO:-0400
TZNAME:EDT
DTSTART:20250309T070000
END:DAYLIGHT
BEGIN:STANDARD
TZOFFSETFROM:-0400
TZOFFSETTO:-0500
TZNAME:EST
DTSTART:20251102T060000
END:STANDARD
BEGIN:DAYLIGHT
TZOFFSETFROM:-0500
TZOFFSETTO:-0400
TZNAME:EDT
DTSTART:20260308T070000
END:DAYLIGHT
BEGIN:STANDARD
TZOFFSETFROM:-0400
TZOFFSETTO:-0500
TZNAME:EST
DTSTART:20261101T060000
END:STANDARD
BEGIN:DAYLIGHT
TZOFFSETFROM:-0500
TZOFFSETTO:-0400
TZNAME:EDT
DTSTART:20270314T070000
END:DAYLIGHT
BEGIN:STANDARD
TZOFFSETFROM:-0400
TZOFFSETTO:-0500
TZNAME:EST
DTSTART:20271107T060000
END:STANDARD
END:VTIMEZONE
BEGIN:VEVENT
DTSTART;TZID=America/Toronto:20260822T080000
DTEND;TZID=America/Toronto:20260823T170000
DTSTAMP:20260425T071910
CREATED:20260424T142010Z
LAST-MODIFIED:20260424T154320Z
UID:23242-1787385600-1787504400@sloveniansummercamp.com
SUMMARY:Farma Baseball
DESCRIPTION:Organized by David Koncan \n\n\n\nThis is a private event for SSC members and their guests. \n\n\nThis form is currently closed for submissions.  Please contact the organizer using the Contact Organizer form.
URL:https://sloveniansummercamp.com/event/farma-baseball/
CATEGORIES:Sports
END:VEVENT
BEGIN:VEVENT
DTSTART;TZID=America/Toronto:20260829T080000
DTEND;TZID=America/Toronto:20260829T170000
DTSTAMP:20260425T071910
CREATED:20260424T142951Z
LAST-MODIFIED:20260424T142955Z
UID:23247-1787990400-1788022800@sloveniansummercamp.com
SUMMARY:High School Volleyball
DESCRIPTION:High School Volleyball Registration\n\n\n\n\n\n\n\n\nParticipant information\n\n\n\n    Participant name\n        *\n    \n    \n	\n		Participant name	\n\n	\n					\n				\n					Last				\n\n				Last			\n						\n				\n					First				\n\n				First			\n				\n\n\n    \n    \n\n\n    Email\n        *\n    \n    \n    \n    \n\n\n    Phone\n        *\n    \n    \n    \n    \n\n\n    City\n        \n    \n    \n    \n    \n\n\n    Age\n        *\n    \n    \n    \n    \n\n\n    Gender\n        *\n    \n    		\n		-select-malefemale	\n	\n    \n    \n\n\n    Experience\n        *\n    \n    		\n		-select-beginner (I've touched a volleyball before but I'm not good)intermediate (I know how to play pretty well but I'm not fantastic)advanced (I've played on my high school team)strokovno (I'm basically a Farma pro)	\n	\n    \n    \n\n\n    Ancestry\n        *\n    \n    		\n		-select-I am SlovenianMy mother is SlovenianMy father is SlovenianMy parents are SlovenianMy grandmother is SlovenianMy grandfather is SlovenianMy grandparents are SlovenianMy spouse is SlovenianMy friend/teammate is Slovenian	\n	\n    \n    \n\n\n\nEmergency contact information\n\n\n\n    Emergency contact name\n        *\n    \n    \n	\n		Emergency contact name	\n\n	\n					\n				\n					Last				\n\n				Last			\n						\n				\n					First				\n\n				First			\n				\n\n\n    \n    \n\n\n    Emergency contact phone\n        *\n    \n    \n    \n    \n\n\n    Email\n        *\n    \n    \n    \n    \n\n\n    Relationship to participant\n        *\n    \n    \n    \n    \n\n\n\nAdditional information\n\n\n\n    Comments and requests for who you would like on your team\n        \n    \n    \n    \n    \n\n\n    How did you hear about the event? (check all that apply)\n        \n    \n    					\n			 email from Slovenian Summer Camp\n					\n			 website\n					\n			 digital ad at Slovenian Summer Camp\n					\n			 from a friend\n					\n			 I participated before\n					\n			 OtherOther\n\n    \n    \n\n\n    Would you like to receive emails about events at the Slovenian Summer Camp?\n        \n    \n    					\n			 no\n					\n			 yes\n\n    \n    \n\n\n\n\n			\n\n    Name\n        *\n    \n    \n	\n		Name	\n\n	\n					\n				\n					Last				\n\n				Last			\n						\n				\n					First				\n\n				First			\n				\n\n\n    \n    \n\n\n    Email\n        *\n    \n    \n    \n    \n\n\n\n\n\nTerms and conditions\n\n\n\n\nRegistration for this event is $10 per participant to be paid prior to the first game on the day of the event.  Lunch is included.\nOnline registration will close on August 8\, 2025 at 12:00 pm (noon).\nIf a participant can no longer take part in the event\, the organizer respectfully asks to contact her at least 24 hours prior to the event by replying to the confirmation email.  There are no substitutions.  Event organizer will replace participants.\nAll participants are expected to report to the Volleyball Courts at 9:00 am.  The event organizer reserves the right to replace a participant if the participant is not present at this time.\nThe event organizers and the committee of the Slovenian Summer Camp are not liable for any injuries incurred during the tournaments.\nParticipants/volunteers are to behave in a sportsman-like manner and with respect to each other.\nSlovenian Sumer Camp has and enforces a “no dogs allowed” policy for all visitors.  Please leave your pets at home.\nParticipants/volunteers may be photographed during the event.  The photographs may be posted on the SSC website or used in other SSC media\, printed material or documents.  Participant’s name will appear on the Participant List on the event page.  No names will be associated with any photo.\n\n\n\n    Terms and conditions\n        *\n    \n    					\n			 I agree to the terms and conditions\n\n    \n    \n\n\n    Captcha\n        \n    \n    \n    \n    \n\n\n\n	\nSubmit\n\n\n\n\n\n	\n			\n			\n				If you are human\, leave this field blank.
URL:https://sloveniansummercamp.com/event/high-school-volleyball-4/
CATEGORIES:Sports
END:VEVENT
BEGIN:VEVENT
DTSTART;TZID=America/Toronto:20260829T080000
DTEND;TZID=America/Toronto:20260829T170000
DTSTAMP:20260425T071910
CREATED:20260424T143154Z
LAST-MODIFIED:20260424T161221Z
UID:23249-1787990400-1788022800@sloveniansummercamp.com
SUMMARY:Balinanje - Victoria Fund
DESCRIPTION:Contact Organizer – Val Koncan\n\n\n\n\n\n\n\n\n    Name\n        *\n    \n    \n	\n		Name	\n\n	\n					\n				\n					Last				\n\n				Last			\n						\n				\n					First				\n\n				First			\n				\n\n\n    \n    \n\n\n    Email\n        *\n    \n    \n    \n    \n\n\n    Subject\n        *\n    \n    \n    \n    \n\n\n    Message\n        *\n    \n    \n    \n    \n\n\n    Captcha\n        \n    \n    \n    \n    \n\n\n	\nSubmit\n\n\n\n\n\n	\n			\n			\n				If you are human\, leave this field blank.
URL:https://sloveniansummercamp.com/event/balinanje-victoria-fund/
CATEGORIES:Sports
END:VEVENT
BEGIN:VEVENT
DTSTART;TZID=America/Toronto:20260926T080000
DTEND;TZID=America/Toronto:20260926T170000
DTSTAMP:20260425T071910
CREATED:20251114T024309Z
LAST-MODIFIED:20251114T030639Z
UID:22766-1790409600-1790442000@sloveniansummercamp.com
SUMMARY:Strudel Fest
DESCRIPTION:
URL:https://sloveniansummercamp.com/event/strudel-fest/
CATEGORIES:Cultural Events
ATTACH;FMTTYPE=image/png:https://sloveniansummercamp.com/wp-content/uploads/2025/11/STRUDEL-FEST-compressed.png
END:VEVENT
BEGIN:VEVENT
DTSTART;TZID=America/Toronto:20261011T114500
DTEND;TZID=America/Toronto:20261011T210000
DTSTAMP:20260425T071910
CREATED:20251114T201434Z
LAST-MODIFIED:20260105T183105Z
UID:22769-1791719100-1791752400@sloveniansummercamp.com
SUMMARY:Vinska Trgatev
DESCRIPTION:Join us as we close out another season at the Slovenian Summer Camp with our annual Vinska Trgatev and a fabulous Thanksgiving Dinner. It’s the perfect chance to gather with friends and family\, share a delicious meal\, and celebrate the warmth of our community. Enjoy live music and take a spin on the dance floor. And don’t forget — there will be a raffle with a chance to win the “krona”! \n\n\n\nTickets go on sale September 11\, 2026.
URL:https://sloveniansummercamp.com/event/vinska-trgatev-2/
CATEGORIES:Cultural Events
ATTACH;FMTTYPE=image/png:https://sloveniansummercamp.com/wp-content/uploads/2025/11/VINSKA-TRGATEV2026-compressed.png
END:VEVENT
END:VCALENDAR