BEGIN:VCALENDAR
VERSION:2.0
PRODID:-//Slovenian Summer Camp - ECPv6.15.20//NONSGML v1.0//EN
CALSCALE:GREGORIAN
METHOD:PUBLISH
X-WR-CALNAME:Slovenian Summer Camp
X-ORIGINAL-URL:https://sloveniansummercamp.com
X-WR-CALDESC:Events for Slovenian Summer Camp
REFRESH-INTERVAL;VALUE=DURATION:PT1H
X-Robots-Tag:noindex
X-PUBLISHED-TTL:PT1H
BEGIN:VTIMEZONE
TZID:America/Halifax
BEGIN:DAYLIGHT
TZOFFSETFROM:-0400
TZOFFSETTO:-0300
TZNAME:ADT
DTSTART:20230312T060000
END:DAYLIGHT
BEGIN:STANDARD
TZOFFSETFROM:-0300
TZOFFSETTO:-0400
TZNAME:AST
DTSTART:20231105T050000
END:STANDARD
BEGIN:DAYLIGHT
TZOFFSETFROM:-0400
TZOFFSETTO:-0300
TZNAME:ADT
DTSTART:20240310T060000
END:DAYLIGHT
BEGIN:STANDARD
TZOFFSETFROM:-0300
TZOFFSETTO:-0400
TZNAME:AST
DTSTART:20241103T050000
END:STANDARD
BEGIN:DAYLIGHT
TZOFFSETFROM:-0400
TZOFFSETTO:-0300
TZNAME:ADT
DTSTART:20250309T060000
END:DAYLIGHT
BEGIN:STANDARD
TZOFFSETFROM:-0300
TZOFFSETTO:-0400
TZNAME:AST
DTSTART:20251102T050000
END:STANDARD
END:VTIMEZONE
BEGIN:VTIMEZONE
TZID:UTC
BEGIN:STANDARD
TZOFFSETFROM:+0000
TZOFFSETTO:+0000
TZNAME:UTC
DTSTART:20230101T000000
END:STANDARD
END:VTIMEZONE
BEGIN:VEVENT
DTSTART;TZID=America/Halifax:20240519T170000
DTEND;TZID=America/Halifax:20240519T170000
DTSTAMP:20260425T114421
CREATED:20240511T232337Z
LAST-MODIFIED:20240512T011917Z
UID:5202-1716138000-1716138000@sloveniansummercamp.com
SUMMARY:Ljutomerski Oktet in Concert
DESCRIPTION:Pesem. Tradicija. Ponos.Cenimo bogato slovensko kulturno dediščino in z ubranimprepevanjem plemenitimo našo skupno sedanjost. \n\n\n\n \n\n\n\nLjutomerski oktet je bil ustanovljen v davnem letu 1965. V tem obdobju je oktet opravil izjemno oslanstvo  kulturnem prostoru širom Slovenije in tudi izven njenih meja. Temeljno poslanstvo pevskega sestava je negovanje slovenske ljudske in umetne pesmi ter obujanje fantovskega načina petja z ohranjanjem pristnega izvajanja podoknic in napitnic. \n\n\n\nPovabilo za potovanje v Kanado je prišlo v pravem trenutku\, da ga lahko štejemo kot uvod v praznovanje našega visokega jubileja\, 60-letnice delovanja. Kraje Toronto\, Hamilton in Ottawa z okolico bomo z ljutomerskim oktetom obiskali v času med 16. in 23. majem 2024. \n\n\n\nOsnovni namen našega gostovanja bo spoznavanje prvinskega jezikovnega in kulturnega bogastva slovenskih izseljencev v Torontu\, Hamiltonu in okolici\, kar bomo skušali oplemenititi s predstavitvijo domače slovenske pesmi našim zdomcem ter njihovim potomcem\, sorodnikom in prijateljem v Kanadi. \n\n\n\nPrinašamo vam pozdrave številnih sorodstveno povezanih družin iz naše bližnje in daljne okolice: iz Prlekije\, Prekmurja\, Štajerske\, Koroške ter tudi iz bolj oddaljenih koncev naše domovine. Tako pestro bo sestavljen tudi naš koncertni program\, ki ga bomo predstavili v Hamiltonu in Torontu. Zapeli bomo tudi pri svetih mašah v vaših župnijskih cerkvah\, kjer bomo predstavili Mašo za moški zbor nedavno preminulega skladatelja Jožeta Trošta in skupaj s cerkvenim občestvom zapeli nekaj znanih pesmi iz ljudske cerkvene pesmarice. \n\n\n\nDragi zdomci: na tem kratkem potovanju po Kanadi se veselimo predvsem srečanja z vami\, vašega cenjenega obiska na naših koncertih in skupnega prepevanja. Veseli bomo (v dneh in ob večerih\, ko smo še prosti) vašega prijaznega povabila na kozarček in klepet v okviru vašega društva ali v krogu vaše družine in prijateljev.
URL:https://sloveniansummercamp.com/event/ljutomerski-oktet-concert/
CATEGORIES:Cultural Events
ATTACH;FMTTYPE=image/jpeg:https://sloveniansummercamp.com/wp-content/uploads/2024/05/ljutomerski-oktet.jpg
END:VEVENT
BEGIN:VEVENT
DTSTART;TZID=UTC:20240512T114500
DTEND;TZID=UTC:20240512T170000
DTSTAMP:20260425T114421
CREATED:20240107T062527Z
LAST-MODIFIED:20241229T163920Z
UID:4516-1715514300-1715533200@sloveniansummercamp.com
SUMMARY:Mother's Day Lunch
DESCRIPTION:Join us for our annual Mother’s Day Lunch at the Slovenian Summer Camp as we officially kick off the 2024 season!  Enjoy a home cooked meal prepared by our talented all male chef brigade then take a spin on the dance floor to the music by Fantje na Farmi.  Mass starts at 11:45 am.  Lunch will be served following mass.
URL:https://sloveniansummercamp.com/event/mothers-day-lunch/
CATEGORIES:Cultural Events
ATTACH;FMTTYPE=image/png:https://sloveniansummercamp.com/wp-content/uploads/2024/01/mothers-day-landscape-compressed.png
END:VEVENT
BEGIN:VEVENT
DTSTART;TZID=UTC:20240210T180000
DTEND;TZID=UTC:20240210T180000
DTSTAMP:20260425T114421
CREATED:20240107T062440Z
LAST-MODIFIED:20240205T214306Z
UID:4514-1707588000-1707588000@sloveniansummercamp.com
SUMMARY:Pustna Zabava
DESCRIPTION:
URL:https://sloveniansummercamp.com/event/pustna-zabava/
CATEGORIES:Cultural Events
END:VEVENT
END:VCALENDAR