BEGIN:VCALENDAR
VERSION:2.0
PRODID:-//Slovenian Summer Camp - ECPv6.15.20//NONSGML v1.0//EN
CALSCALE:GREGORIAN
METHOD:PUBLISH
X-ORIGINAL-URL:https://sloveniansummercamp.com
X-WR-CALDESC:Events for Slovenian Summer Camp
REFRESH-INTERVAL;VALUE=DURATION:PT1H
X-Robots-Tag:noindex
X-PUBLISHED-TTL:PT1H
BEGIN:VTIMEZONE
TZID:UTC
BEGIN:STANDARD
TZOFFSETFROM:+0000
TZOFFSETTO:+0000
TZNAME:UTC
DTSTART:20230101T000000
END:STANDARD
END:VTIMEZONE
BEGIN:VEVENT
DTSTART;VALUE=DATE:20240803
DTEND;VALUE=DATE:20240805
DTSTAMP:20260425T081111
CREATED:20240107T072626Z
LAST-MODIFIED:20240721T165318Z
UID:4559-1722643200-1722815999@sloveniansummercamp.com
SUMMARY:Adult Softball
DESCRIPTION:Ages 14+ \n\n\n\nOrganizer: Frank Krmelj \n\n\n\nThe annual adult softball tournament began more than 40 years ago.  Also affectionately known as Chicago Weekend\, the tournament provides an opportunity for our Slovenian friends from Chicago to visit the Slovenian Summer Camp and engage in some friendly competition.  Participation in the event is by invitation only.  Spectators always welcome.
URL:https://sloveniansummercamp.com/event/adult-softball/
CATEGORIES:Sports
ATTACH;FMTTYPE=image/png:https://sloveniansummercamp.com/wp-content/uploads/2024/01/ADULTSOFTBALLaug34L-compressed.png
END:VEVENT
BEGIN:VEVENT
DTSTART;TZID=UTC:20240803T170000
DTEND;TZID=UTC:20240803T235900
DTSTAMP:20260425T081111
CREATED:20240107T062959Z
LAST-MODIFIED:20241229T172906Z
UID:4522-1722704400-1722729540@sloveniansummercamp.com
SUMMARY:Poletna Veselica
DESCRIPTION:Join us for a night of dinner and dancing under the stars with live music by Golden Keys! Our schnitzel and roasted chicken dinners are popular and sell out fast…so order yours ahead of time to avoid disappointment.
URL:https://sloveniansummercamp.com/event/polenta-veselica/
CATEGORIES:Cultural Events
ATTACH;FMTTYPE=image/png:https://sloveniansummercamp.com/wp-content/uploads/2024/01/poletna-landscape-compressed.png
END:VEVENT
BEGIN:VEVENT
DTSTART;TZID=UTC:20240810T090000
DTEND;TZID=UTC:20240810T180000
DTSTAMP:20260425T081111
CREATED:20240107T072939Z
LAST-MODIFIED:20241229T173120Z
UID:4564-1723280400-1723312800@sloveniansummercamp.com
SUMMARY:Soccer (4-6)
DESCRIPTION:Ages 4 – 6 \n\n\n\nOrganizer: Peter Vlahovic \n\n\n\nRegistration fee: $10 to be paid at start of event. Lunch is included. \n\n\n\nOnline registration is now open! Registration will close on August 8\, 2024 at 23:59.
URL:https://sloveniansummercamp.com/event/soccer-4-6/
CATEGORIES:Sports
ATTACH;FMTTYPE=image/png:https://sloveniansummercamp.com/wp-content/uploads/2024/01/SOCCERKIDSaug10L-compressed.png
END:VEVENT
BEGIN:VEVENT
DTSTART;TZID=UTC:20240810T090000
DTEND;TZID=UTC:20240810T180000
DTSTAMP:20260425T081111
CREATED:20240107T073043Z
LAST-MODIFIED:20241229T173304Z
UID:4567-1723280400-1723312800@sloveniansummercamp.com
SUMMARY:Soccer (7-13)
DESCRIPTION:Ages 7 – 13 \n\n\n\nOrganizer: Maurizio Falzata \n\n\n\nRegistration fee: $10 to be paid at start of event. Lunch is included. \n\n\n\nOnline registration is now open! Registration will close on August 8\, 2024 at 23:59.
URL:https://sloveniansummercamp.com/event/soccer-7-13/
CATEGORIES:Sports
ATTACH;FMTTYPE=image/png:https://sloveniansummercamp.com/wp-content/uploads/2024/01/SOCCERYOUTHaug10L-compressed.png
END:VEVENT
BEGIN:VEVENT
DTSTART;TZID=UTC:20240810T090000
DTEND;TZID=UTC:20240810T190000
DTSTAMP:20260425T081111
CREATED:20240107T072852Z
LAST-MODIFIED:20241229T173558Z
UID:4562-1723280400-1723316400@sloveniansummercamp.com
SUMMARY:High School Volleyball
DESCRIPTION:Ages 14 – 19 \n\n\n\nOrganizer: Tea Falzata \n\n\n\nRegistration fee: $10 to be paid at start of event. Lunch is included. \n\n\n\nOnline registration is now open! Registration will close on August 9\, 2024 at 12:00 pm (noon).
URL:https://sloveniansummercamp.com/event/high-school-volleyball/
CATEGORIES:Sports
ATTACH;FMTTYPE=image/png:https://sloveniansummercamp.com/wp-content/uploads/2024/01/HIGHSCHOOLVBaug10L-compressed.png
END:VEVENT
BEGIN:VEVENT
DTSTART;TZID=UTC:20240810T170000
DTEND;TZID=UTC:20240810T233000
DTSTAMP:20260425T081111
CREATED:20240107T063814Z
LAST-MODIFIED:20240719T182232Z
UID:4524-1723309200-1723332600@sloveniansummercamp.com
SUMMARY:Čevap Dinner and Accordion Night
DESCRIPTION:Come and join us for a fabulous cevap dinner.  Following dinner\, we invite all accordion players to join in and show off their talents in our annual accordion night.
URL:https://sloveniansummercamp.com/event/cevap-dinner-and-accordion-night/
CATEGORIES:Cultural Events
ATTACH;FMTTYPE=image/png:https://sloveniansummercamp.com/wp-content/uploads/2024/01/cevap-dinner-landscape-compressed.png
END:VEVENT
BEGIN:VEVENT
DTSTART;TZID=UTC:20240817T084500
DTEND;TZID=UTC:20240817T140000
DTSTAMP:20260425T081111
CREATED:20240107T073136Z
LAST-MODIFIED:20241229T173819Z
UID:4569-1723884300-1723903200@sloveniansummercamp.com
SUMMARY:Pickle Ball
DESCRIPTION:Ages 20+ \n\n\n\nOrganizer: John Ulcar \n\n\n\nRegistration is free. \n\n\n\nPlease wear running shoes and comfortable attire. No sandals or flip flops. \n\n\n\nOnline registration is now open! Registration will close on August 15\, 2024 at 23:59.
URL:https://sloveniansummercamp.com/event/pickle-ball/
CATEGORIES:Sports
ATTACH;FMTTYPE=image/png:https://sloveniansummercamp.com/wp-content/uploads/2024/01/PICKLEBALLaug17L-compressed.png
END:VEVENT
BEGIN:VEVENT
DTSTART;TZID=UTC:20240817T090000
DTEND;TZID=UTC:20240818T180000
DTSTAMP:20260425T081111
CREATED:20240107T073600Z
LAST-MODIFIED:20241229T174014Z
UID:4577-1723885200-1724004000@sloveniansummercamp.com
SUMMARY:Youth Softball
DESCRIPTION:Ages 18+ \n\n\n\nOrganizer: David Koncan \n\n\n\nRegistration fee: $20 to be paid by E-transfer prior to event. Lunch is included. \n\n\n\nOnline registration is now open! Registration will close on August 9\, 2024 at 23:59 or when registration reaches 66 participants\, whichever comes first.  Please register early so that the organizer has enough time to order the team T-shirts!
URL:https://sloveniansummercamp.com/event/youth-softball/
CATEGORIES:Sports
ATTACH;FMTTYPE=image/png:https://sloveniansummercamp.com/wp-content/uploads/2024/01/YOUTHSOFTBALLaug1718L-compressed.png
ORGANIZER;CN="David Koncan":MAILTO:david.koncan@gmail.com
END:VEVENT
BEGIN:VEVENT
DTSTART;TZID=UTC:20240818T091500
DTEND;TZID=UTC:20240818T190000
DTSTAMP:20260425T081111
CREATED:20240107T073321Z
LAST-MODIFIED:20241229T174205Z
UID:4571-1723972500-1724007600@sloveniansummercamp.com
SUMMARY:Adult Volleyball (30+)
DESCRIPTION:Ages 30+ \n\n\n\nOrganizer: Francka McCormick \n\n\n\nRegistration fee: $10 to be paid at start of event. \n\n\n\nOnline registration now open! Registration will close on August 16\, 2024 at 23:59.
URL:https://sloveniansummercamp.com/event/adult-volleyball-30/
CATEGORIES:Sports
ATTACH;FMTTYPE=image/png:https://sloveniansummercamp.com/wp-content/uploads/2024/01/ADULTVOLLEYBALLaug18L-compressed.png
END:VEVENT
BEGIN:VEVENT
DTSTART;TZID=UTC:20240824T090000
DTEND;TZID=UTC:20240824T180000
DTSTAMP:20260425T081111
CREATED:20240107T072318Z
LAST-MODIFIED:20241229T174416Z
UID:4550-1724490000-1724522400@sloveniansummercamp.com
SUMMARY:Soccer (14-17)
DESCRIPTION:Ages 14-17 \n\n\n\nOrganizer: Maurizio Falzata \n\n\n\nRegistration fee: $10 to be paid at start of event. Lunch is included. \n\n\n\nOnline registration is now open! Registration will close on August 22\, 2024 at 23:59.
URL:https://sloveniansummercamp.com/event/soccer-14-17/
CATEGORIES:Sports
ATTACH;FMTTYPE=image/png:https://sloveniansummercamp.com/wp-content/uploads/2024/01/SOCCERage14-17aug24L-compressed.png
END:VEVENT
BEGIN:VEVENT
DTSTART;TZID=UTC:20240824T090000
DTEND;TZID=UTC:20240824T190000
DTSTAMP:20260425T081111
CREATED:20240107T072423Z
LAST-MODIFIED:20241229T174532Z
UID:4553-1724490000-1724526000@sloveniansummercamp.com
SUMMARY:Soccer (18+)
DESCRIPTION:Ages 18+ \n\n\n\nOrganizer: Joseph Falzata \n\n\n\nRegistration fee: $10 to be paid at start of event. Lunch is included. \n\n\n\nOnline registration is now open! Registration will close on August 22\, 2024 at 23:59.
URL:https://sloveniansummercamp.com/event/soccer-18/
CATEGORIES:Sports
ATTACH;FMTTYPE=image/png:https://sloveniansummercamp.com/wp-content/uploads/2024/01/SOCCERages18aug24L-compressed1.png
END:VEVENT
BEGIN:VEVENT
DTSTART;TZID=UTC:20240824T100000
DTEND;TZID=UTC:20240824T170000
DTSTAMP:20260425T081111
CREATED:20240107T073447Z
LAST-MODIFIED:20241229T174711Z
UID:4574-1724493600-1724518800@sloveniansummercamp.com
SUMMARY:Chess Tournament
DESCRIPTION:Ages 7+ \n\n\n\nOrganizer: John Muhic \n\n\n\nRegistration fee: $10. \n\n\n\nOnline registration is now open!  Registration will close on August 23\, 2024 at 23:59.
URL:https://sloveniansummercamp.com/event/chess-tournament/
CATEGORIES:Sports
ATTACH;FMTTYPE=image/png:https://sloveniansummercamp.com/wp-content/uploads/2024/01/CHESSaug24L-compressed.png
END:VEVENT
BEGIN:VEVENT
DTSTART;TZID=UTC:20240831T083000
DTEND;TZID=UTC:20240831T180000
DTSTAMP:20260425T081111
CREATED:20240107T073758Z
LAST-MODIFIED:20241229T174801Z
UID:4579-1725093000-1725127200@sloveniansummercamp.com
SUMMARY:Balinanje
DESCRIPTION:Ages 16+ \n\n\n\nOrganizer: Val Koncan \n\n\n\nSign up in person at the Balina Courts at 8:30 am. \n\n\n\nRegistration fee: $20 to be paid at start of event. Lunch is included. \n\n\n\nHave a question?  Contact the organizer using the form below. \n\n\n\nSee you there!
URL:https://sloveniansummercamp.com/event/balinanje-2/
CATEGORIES:Sports
ATTACH;FMTTYPE=image/png:https://sloveniansummercamp.com/wp-content/uploads/2024/01/BALINANJEaug31L-compressed.png
ORGANIZER;CN="Val Koncan":MAILTO:vkoncan@sloveniansummercamp.com
END:VEVENT
END:VCALENDAR