BEGIN:VCALENDAR
VERSION:2.0
PRODID:-//Slovenian Summer Camp - ECPv6.15.20//NONSGML v1.0//EN
CALSCALE:GREGORIAN
METHOD:PUBLISH
X-WR-CALNAME:Slovenian Summer Camp
X-ORIGINAL-URL:https://sloveniansummercamp.com
X-WR-CALDESC:Events for Slovenian Summer Camp
REFRESH-INTERVAL;VALUE=DURATION:PT1H
X-Robots-Tag:noindex
X-PUBLISHED-TTL:PT1H
BEGIN:VTIMEZONE
TZID:America/Halifax
BEGIN:DAYLIGHT
TZOFFSETFROM:-0400
TZOFFSETTO:-0300
TZNAME:ADT
DTSTART:20240310T060000
END:DAYLIGHT
BEGIN:STANDARD
TZOFFSETFROM:-0300
TZOFFSETTO:-0400
TZNAME:AST
DTSTART:20241103T050000
END:STANDARD
BEGIN:DAYLIGHT
TZOFFSETFROM:-0400
TZOFFSETTO:-0300
TZNAME:ADT
DTSTART:20250309T060000
END:DAYLIGHT
BEGIN:STANDARD
TZOFFSETFROM:-0300
TZOFFSETTO:-0400
TZNAME:AST
DTSTART:20251102T050000
END:STANDARD
BEGIN:DAYLIGHT
TZOFFSETFROM:-0400
TZOFFSETTO:-0300
TZNAME:ADT
DTSTART:20260308T060000
END:DAYLIGHT
BEGIN:STANDARD
TZOFFSETFROM:-0300
TZOFFSETTO:-0400
TZNAME:AST
DTSTART:20261101T050000
END:STANDARD
END:VTIMEZONE
BEGIN:VEVENT
DTSTART;TZID=America/Halifax:20250705T083000
DTEND;TZID=America/Halifax:20250705T180000
DTSTAMP:20260424T214224
CREATED:20250122T043543Z
LAST-MODIFIED:20250331T231739Z
UID:13344-1751704200-1751738400@sloveniansummercamp.com
SUMMARY:Balinanje
DESCRIPTION:Ages 16+ \n\n\n\nOrganizers: Val Koncan and Stan Ulcar \n\n\n\nSign up in person at the Balina Courts at 8:30 am. \n\n\n\nRegistration fee: $10 to be paid at start of event. Lunch is included. \n\n\n\nHave a question?  Contact the organizer using the form below. \n\n\n\nSee you there! \n\n\n\n\n\n\n\nContact Organizer: Val Koncan\n\n\n\n\n\n\nContact Organizer – Val Koncan\n\n\n\n\n\n\n\n\n    Name\n        *\n    \n    \n	\n		Name	\n\n	\n					\n				\n					Last				\n\n				Last			\n						\n				\n					First				\n\n				First			\n				\n\n\n    \n    \n\n\n    Email\n        *\n    \n    \n    \n    \n\n\n    Subject\n        *\n    \n    \n    \n    \n\n\n    Message\n        *\n    \n    \n    \n    \n\n\n    Captcha\n        \n    \n    \n    \n    \n\n\n	\nSubmit\n\n\n\n\n\n	\n			\n			\n				If you are human\, leave this field blank.			\n			\n		\n		\n\n\n\n\n\n\n\n\n\n\n\n\nContact Organizer: Stan Ulcar\n\n\n\n\n\n\nContact Organizer – Stan Ulcar\n\n\n\n\n\n\n\n\n    Name\n        *\n    \n    \n	\n		Name	\n\n	\n					\n				\n					Last				\n\n				Last			\n						\n				\n					First				\n\n				First			\n				\n\n\n    \n    \n\n\n    Email\n        *\n    \n    \n    \n    \n\n\n    Subject\n        *\n    \n    \n    \n    \n\n\n    Message\n        *\n    \n    \n    \n    \n\n\n    Captcha\n        \n    \n    \n    \n    \n\n\n	\nSubmit\n\n\n\n\n\n	\n			\n			\n				If you are human\, leave this field blank.
URL:https://sloveniansummercamp.com/event/balinanje-3/
CATEGORIES:Sports
ATTACH;FMTTYPE=image/png:https://sloveniansummercamp.com/wp-content/uploads/2025/01/BALINANJE-JULY5-compressed.png
END:VEVENT
BEGIN:VEVENT
DTSTART;TZID=America/Halifax:20250712T090000
DTEND;TZID=America/Halifax:20250712T190000
DTSTAMP:20260424T214224
CREATED:20250122T044210Z
LAST-MODIFIED:20250620T014541Z
UID:13352-1752310800-1752346800@sloveniansummercamp.com
SUMMARY:Youth Volleyball
DESCRIPTION:Ages 18+ \n\n\n\nOrganizer: Tea Falzata \n\n\n\nRegistration fee: $10 to be paid at start of event. Lunch is included. \n\n\n\nOnline registration is now open. Online registration will close on July 11 at 12:00 noon. \n\n\n\n\n\n\n\nYouth Volleyball 18+ Registration\n\n\n\n\n\n\n19+ Volleyball Registration\n\n\n\n\n\n\n\n\nParticipant information\n\n\n\n    Participant name\n        *\n    \n    \n	\n		Participant name	\n\n	\n					\n				\n					Last				\n\n				Last			\n						\n				\n					First				\n\n				First			\n				\n\n\n    \n    \n\n\n    Email\n        *\n    \n    \n    \n    \n\n\n    Phone\n        *\n    \n    \n    \n    \n\n\n    City\n        \n    \n    \n    \n    \n\n\n    Age\n        *\n    \n    \n    \n    \n\n\n    Gender\n        *\n    \n    		\n		-select-malefemale	\n	\n    \n    \n\n\n    Experience\n        *\n    \n    		\n		-select-beginner (I've touched a volleyball before but I'm not good)intermediate (I know how to play pretty well but I'm not fantastic)advanced (I've played on my high school team)strokovno (I'm basically a Farma pro)	\n	\n    \n    \n\n\n    Ancestry\n        *\n    \n    		\n		-select-I am SlovenianMy mother is SlovenianMy father is SlovenianMy parents are SlovenianMy grandmother is SlovenianMy grandfather is SlovenianMy grandparents are SlovenianMy spouse is SlovenianMy friend/teammate is Slovenian	\n	\n    \n    \n\n\n\nEmergency contact information\n\n\n\n    Emergency contact name\n        *\n    \n    \n	\n		Emergency contact name	\n\n	\n					\n				\n					Last				\n\n				Last			\n						\n				\n					First				\n\n				First			\n				\n\n\n    \n    \n\n\n    Emergency contact phone\n        *\n    \n    \n    \n    \n\n\n    Email\n        *\n    \n    \n    \n    \n\n\n    Relationship to participant\n        *\n    \n    \n    \n    \n\n\n\nAdditional information\n\n\n\n    Comments and requests for who you would like on your team\n        \n    \n    \n    \n    \n\n\n    How did you hear about the event? (check all that apply)\n        \n    \n    					\n			 email from Slovenian Summer Camp\n					\n			 website\n					\n			 digital ad at Slovenian Summer Camp\n					\n			 from a friend\n					\n			 I participated before\n					\n			 OtherOther\n\n    \n    \n\n\n    Would you like to receive emails about events at the Slovenian Summer Camp?\n        \n    \n    					\n			 no\n					\n			 yes\n\n    \n    \n\n\n\n\n			\n\n    Name\n        *\n    \n    \n	\n		Name	\n\n	\n					\n				\n					Last				\n\n				Last			\n						\n				\n					First				\n\n				First			\n				\n\n\n    \n    \n\n\n    Email\n        *\n    \n    \n    \n    \n\n\n\n\n\nTerms and conditions\n\n\n\n\nRegistration for this event is $10 per participant to be paid prior to the first game on the day of the event.  Lunch is included.\nOnline registration will close on July 11\, 2025 at 12:00 pm (noon).\nIf a participant can no longer take part in the event\, the organizer respectfully asks to contact her at least 24 hours prior to the event by replying to the confirmation email.  There are no substitutions.  Event organizer will replace participants.\nAll participants are expected to report to the Volleyball Courts at 9:00 am.  The event organizer reserves the right to replace a participant if the participant is not present at this time.\nThe event organizers and the committee of the Slovenian Summer Camp are not liable for any injuries incurred during the tournaments.\nParticipants/volunteers are to behave in a sportsman-like manner and with respect to each other.\nSlovenian Sumer Camp has and enforces a “no dogs allowed” policy for all visitors.  Please leave your pets at home.\nParticipants/volunteers may be photographed during the event.  The photographs may be posted on the SSC website or used in other SSC media\, printed material or documents.  Participant’s name will appear on the Participant List on the event page.  No names will be associated with any photo.\n\n\n\n    Terms and conditions\n        *\n    \n    					\n			 I agree to the terms and conditions\n\n    \n    \n\n\n    Captcha\n        \n    \n    \n    \n    \n\n\n\n	\nSubmit\n\n\n\n\n\n	\n			\n			\n				If you are human\, leave this field blank.			\n			\n		\n		\n\n\n\n\n\n\n\n\n\n\n\n\nHave questions? Contact the organizer using the form below.\n\n\n\n\n\n\nContact Organizer – Tea Falzata\n\n\n\n\n\n\n\n\n    Name\n        *\n    \n    \n	\n		Name	\n\n	\n					\n				\n					Last				\n\n				Last			\n						\n				\n					First				\n\n				First			\n				\n\n\n    \n    \n\n\n    Email\n        *\n    \n    \n    \n    \n\n\n    Subject\n        *\n    \n    \n    \n    \n\n\n    Message\n        *\n    \n    \n    \n    \n\n\n    Captcha\n        \n    \n    \n    \n    \n\n\n	\nSubmit\n\n\n\n\n\n	\n			\n			\n				If you are human\, leave this field blank.			\n			\n		\n		\n\n\n\n\n\n\n\n\n\n\n\n\nParticipants registered for this event\n\n\n \n\n\n\nParticipant name\n\n\n\n\nByrne Owen\n\n\nZilavec Thomas\n\n\nByrne Maeve\n\n\nWillamowicz Owen\n\n\nWillamowicz Michael\n\n\nFlorencio Justin\n\n\nPodobnik Karolina\n\n\nFrémit Malo\n\n\nFalzata Sofia\n\n\nFalzata Tea\n\n\nRodriguez Guerra Alejandro\n\n\nZamparo Stephen\n\n\nPodobnik Juliana\n\n\nVulic Dan\n\n\nRice Malcolm\n\n\nMcCormick Mady\n\n\nMccormick Teja\n\n\nHorvat Samantha\n\n\nHorvat Erika\n\n\nStergar Mateja\n\n\nStergar Anderson\n\n\nSemen Sebastian\n\n\nTeixiera Maddie\n\n\nMurphy Anna\n\n\nJelen Jack\n\n\nIntihar Frank\n\n\nLebar Christian\n\n\nLinares Flavia
URL:https://sloveniansummercamp.com/event/youth-volleyball-2/
CATEGORIES:Sports
ATTACH;FMTTYPE=image/png:https://sloveniansummercamp.com/wp-content/uploads/2025/01/YOUTH-VOLLEYBALLv2compressed.png
END:VEVENT
BEGIN:VEVENT
DTSTART;TZID=America/Halifax:20250712T100000
DTEND;TZID=America/Halifax:20250712T170000
DTSTAMP:20260424T214225
CREATED:20250122T043712Z
LAST-MODIFIED:20250702T223812Z
UID:13346-1752314400-1752339600@sloveniansummercamp.com
SUMMARY:Chess Tournament
DESCRIPTION:THIS EVENT IS BEING RESCHEDULED. \n\n\n\n\n\n\n\nAges 7+ \n\n\n\nOrganizer: John Muhic \n\n\n\nRegistration for this event is free with admission to the Slovenian Summer Camp. No lunch provided for this event. \n\n\n\nOnline registration is now open. Online registration will close on July 11 at 23:59. \n\n\n\n\n\n\n\nChess Tournament Registration\n\n\nThis registration form is currently closed for submissions. Please contact the organizer using the form below. \n\n\n\n\n\n\nHave questions? Contact the organizer using the form below.\n\n\n\n\n\n\nContact Organizer – John Muhic\n\n\n\n\n\n\n\n\n    Name\n        *\n    \n    \n	\n		Name	\n\n	\n					\n				\n					Last				\n\n				Last			\n						\n				\n					First				\n\n				First			\n				\n\n\n    \n    \n\n\n    Email\n        *\n    \n    \n    \n    \n\n\n    Subject\n        *\n    \n    \n    \n    \n\n\n    Message\n        *\n    \n    \n    \n    \n\n\n    Captcha\n        \n    \n    \n    \n    \n\n\n	\nSubmit\n\n\n\n\n\n	\n			\n			\n				If you are human\, leave this field blank.			\n			\n		\n		\n\n\n\n\n\n\n\n\n\n\n\n\nParticipants registered for this event\n\n\n \n\n\n\nParticipant name\n\n\n\n\nIntihar Marko
URL:https://sloveniansummercamp.com/event/chess-tournament-2/
CATEGORIES:Sports
ATTACH;FMTTYPE=image/png:https://sloveniansummercamp.com/wp-content/uploads/2025/01/chess-compressed-1.png
END:VEVENT
BEGIN:VEVENT
DTSTART;TZID=America/Halifax:20250726T084500
DTEND;TZID=America/Halifax:20250726T170000
DTSTAMP:20260424T214225
CREATED:20250122T043903Z
LAST-MODIFIED:20250601T013606Z
UID:13348-1753519500-1753549200@sloveniansummercamp.com
SUMMARY:Adult Pickleball
DESCRIPTION:Ages 20+ \n\n\n\nOrganizer: John Ulcar \n\n\n\nRegistration is free. \n\n\n\nPlease wear running shoes and comfortable attire. No sandals or flip flops! \n\n\n\nOnline registration is now open. Online registration will close on July 24\, 2025 at 20:59. \n\n\n\n\n\n\n\nAdult Pickleball Registration\n\n\n\n\n\n\nAdult Pickle Ball Registration\n\n\n\n\n\n\n\n\nParticipant information\n\n\n\n    Participant name\n        *\n    \n    \n	\n		Participant name	\n\n	\n					\n				\n					Last				\n\n				Last			\n						\n				\n					First				\n\n				First			\n				\n\n\n    \n    \n\n\n    Email\n        *\n    \n    \n    \n    \n\n\n    Phone\n        *\n    \n    \n    \n    \n\n\n    City\n        \n    \n    \n    \n    \n\n\n    Age\n        *\n    \n    \n    \n    \n\n\n    Gender\n        *\n    \n    		\n		-select-malefemale	\n	\n    \n    \n\n\n    Experience\n        *\n    \n    		\n		-select-beginnerintermediateadvanced	\n	\n    \n    \n\n\n    Ancestry\n        *\n    \n    		\n		-select-I am SlovenianMy mother is SlovenianMy father is SlovenianMy parents are SlovenianMy grandmother is SlovenianMy grandfather is SlovenianMy grandparents are SlovenianMy spouse is SlovenianMy friend/teammate is Slovenian	\n	\n    \n    \n\n\n\nEmergency contact information\n\n\n\n    Emergency contact name\n        *\n    \n    \n	\n		Emergency contact name	\n\n	\n					\n				\n					Last				\n\n				Last			\n						\n				\n					First				\n\n				First			\n				\n\n\n    \n    \n\n\n    Emergency contact phone\n        *\n    \n    \n    \n    \n\n\n    Email\n        *\n    \n    \n    \n    \n\n\n    Relationship to participant\n        *\n    \n    \n    \n    \n\n\n\nAdditional information\n\n\n\n    Comments and requests\n        \n    \n    \n    \n    \n\n\n    How did you hear about the event? (check all that apply)\n        \n    \n    					\n			 email from Slovenian Summer Camp\n					\n			 website\n					\n			 digital ad at Slovenian Summer Camp\n					\n			 from a friend\n					\n			 I participated before\n					\n			 OtherOther\n\n    \n    \n\n\n    Would you like to receive emails about events at the Slovenian Summer Camp?\n        \n    \n    					\n			 no\n					\n			 yes\n\n    \n    \n\n\n\n\n			\n\n    Name\n        *\n    \n    \n	\n		Name	\n\n	\n					\n				\n					Last				\n\n				Last			\n						\n				\n					First				\n\n				First			\n				\n\n\n    \n    \n\n\n    Email\n        *\n    \n    \n    \n    \n\n\n\n\n\nTerms and conditions\n\n\n\n\nRegistration for this event is free.\nOnline registration will close on July 24\, 2025 at 23:59.\nIf a participant can no longer take part in the event\, the organizer respectfully asks to contact him at least 24 hours prior to the event by replying to the confirmation email.  There are no substitutions.  Event organizer will replace participants.\nAll participants are expected to report to the Hall by 8:45 am.  The event organizer reserves the right to replace a participant if the participant is not present at this time.\nThe participants are asked to wear running shoes and comfortable attire.  No sandals or flip flops.\nThe event organizers and the committee of the Slovenian Summer Camp are not liable for any injuries incurred during the tournaments.\nParticipants/volunteers are to behave in a sportsman-like manner and with respect to each other.\nSlovenian Sumer Camp has and enforces a “no dogs allowed” policy for all visitors.  Please leave your pets at home.\nParticipants/volunteers may be photographed during the event.  The photographs may be posted on the SSC website or used in other SSC media\, printed material or documents.  Participants’ name will appear on the Participant List on the event page.   No names will be associated with any photo.\n\n\n\n    Terms and conditions\n        *\n    \n    					\n			 I agree to the terms and conditions\n\n    \n    \n\n\n    Captcha\n        \n    \n    \n    \n    \n\n\n\n	\nSubmit\n\n\n\n\n\n	\n			\n			\n				If you are human\, leave this field blank.			\n			\n		\n		\n\n\n\n\n\n\n\n\n\n\n\n\nHave questions? Contact the organizer using the form below.\n\n\n\n\n\n\nContact Organizer – John Ulcar\n\n\n\n\n\n\n\n\n    Name\n        *\n    \n    \n	\n		Name	\n\n	\n					\n				\n					Last				\n\n				Last			\n						\n				\n					First				\n\n				First			\n				\n\n\n    \n    \n\n\n    Email\n        *\n    \n    \n    \n    \n\n\n    Subject\n        *\n    \n    \n    \n    \n\n\n    Message\n        *\n    \n    \n    \n    \n\n\n    Captcha\n        \n    \n    \n    \n    \n\n\n	\nSubmit\n\n\n\n\n\n	\n			\n			\n				If you are human\, leave this field blank.			\n			\n		\n		\n\n\n\n\n\n\n\n\n\n\n\n\nParticipants registered for this event\n\n\n \n\n\n\nParticipant name\n\n\n\n\nSecnik Clara\n\n\nMatthew Radman\n\n\nCosta Chelsea\n\n\nRice Malcolm\n\n\nPodobnik Juliana\n\n\nPodobnik Nancy\n\n\nBrett Grantham\n\n\nNovak Silvia\n\n\nRodriguez Guerra Alejandro\n\n\nPodobnik Karolina\n\n\nUlbikas Donna\n\n\nUlbikas Jessica\n\n\nMietus Damian\n\n\nJakopin Francka\n\n\nHelme Elizabeth
URL:https://sloveniansummercamp.com/event/pickel-ball/
CATEGORIES:Sports
ATTACH;FMTTYPE=image/png:https://sloveniansummercamp.com/wp-content/uploads/2025/01/ADULT-PICKLEBALL-COMPRESSED.png
END:VEVENT
BEGIN:VEVENT
DTSTART;TZID=America/Halifax:20250726T090000
DTEND;TZID=America/Halifax:20250726T210000
DTSTAMP:20260424T214225
CREATED:20250122T044022Z
LAST-MODIFIED:20250721T132906Z
UID:13350-1753520400-1753563600@sloveniansummercamp.com
SUMMARY:Farmapalooza
DESCRIPTION:All Ages \n\n\n\nOrganizers: Dave Ulcar\, Laurie Letnik\, Melanie Zigante and Peggy Novak \n\n\n\nSSC Sports is excited to introduce Farmapalooza – the Slovenian Summer Camp’s first ever music and arts festival. This exciting new event celebrates the creative spirit of SSC\, showcasing music\, art\, and performances by our talented community. Whether you are on stage\, behind the scenes\, or cheering on from the crowd\, there’s something for everyone to enjoy.  \n\n\n\nIn addition to the arts and music\, there will be board games\, water activities\, bean bag toss\, Bingo for kids and adults and much more. Food will be available for purchase throughout the day. \n\n\n\nFree with admission to SSC. If you are not a member\, please pay $10 admission at the gate or to the lifeguard.
URL:https://sloveniansummercamp.com/event/fun-day/
CATEGORIES:Sports
ATTACH;FMTTYPE=image/png:https://sloveniansummercamp.com/wp-content/uploads/2025/01/farmapalooza-compressed.png
END:VEVENT
BEGIN:VEVENT
DTSTART;TZID=America/Halifax:20250726T100000
DTEND;TZID=America/Halifax:20250726T170000
DTSTAMP:20260424T214225
CREATED:20250122T043240Z
LAST-MODIFIED:20250616T210143Z
UID:13341-1753524000-1753549200@sloveniansummercamp.com
SUMMARY:Ultimate Frisbee
DESCRIPTION:Ages 16+ \n\n\n\nOrganizers: Maja Vlahovic and Jana Vlahovic \n\n\n\nRegistration fee: $10 to be paid at start of event. Lunch is included. \n\n\n\nOnline registration is now open. Online registration will close on July 24\, 2025 at 23:59. \n\n\n\n\n\n\n\nUltimate Frisbee Registration \n\n\n\n\n\n\nUltimate Frisbee Registration\n\n\n\n\n\n\n\n\nParticipant information\n\n\n\n    Participant name\n        *\n    \n    \n	\n		Participant name	\n\n	\n					\n				\n					Last				\n\n				Last			\n						\n				\n					First				\n\n				First			\n				\n\n\n    \n    \n\n\n    Email\n        *\n    \n    \n    \n    \n\n\n    Phone\n        *\n    \n    \n    \n    \n\n\n    City\n        \n    \n    \n    \n    \n\n\n    Age\n        *\n    \n    \n    \n    \n\n\n    Gender\n        *\n    \n    		\n		-select-malefemale	\n	\n    \n    \n\n\n    Experience\n        *\n    \n    		\n		-select-beginnerintermediateadvanced	\n	\n    \n    \n\n\n    Ancestry\n        *\n    \n    		\n		-select-I am SlovenianMy mother is SlovenianMy father is SlovenianMy parents are SlovenianMy grandmother is SlovenianMy grandfather is SlovenianMy grandparents are SlovenianMy spouse is SlovenianMy friend/teammate is Slovenian	\n	\n    \n    \n\n\n	T-shirt size\n		*\n	\n			\n		-select-extra smallsmallmediumlargeextra large	\n	\n	\n	\n\n\n\nEmergency contact information\n\n\n\n    Emergency contact name\n        *\n    \n    \n	\n		Emergency contact name	\n\n	\n					\n				\n					Last				\n\n				Last			\n						\n				\n					First				\n\n				First			\n				\n\n\n    \n    \n\n\n    Emergency contact phone\n        *\n    \n    \n    \n    \n\n\n    Email\n        *\n    \n    \n    \n    \n\n\n    Relationship to participant\n        *\n    \n    \n    \n    \n\n\n\nAdditional information\n\n\n\n    Comments and requests\n        \n    \n    \n    \n    \n\n\n    How did you hear about the event? (check all that apply)\n        \n    \n    					\n			 email from Slovenian Summer Camp\n					\n			 website\n					\n			 digital ad at Slovenian Summer Camp\n					\n			 from a friend\n					\n			 I participated before\n					\n			 OtherOther\n\n    \n    \n\n\n    Would you like to receive emails about events at the Slovenian Summer Camp?\n        \n    \n    					\n			 no\n					\n			 yes\n\n    \n    \n\n\n\n\n			\n\n    Name\n        *\n    \n    \n	\n		Name	\n\n	\n					\n				\n					Last				\n\n				Last			\n						\n				\n					First				\n\n				First			\n				\n\n\n    \n    \n\n\n    Email\n        *\n    \n    \n    \n    \n\n\n\n\n\nTerms and conditions\n\n\n\n\nRegistration for this event is $10 per participant to be paid prior to the first game on the day of the event.  Lunch is included.\nOnline registration will close on July 24\, 2025 at 23:59.\nIf a participant can no longer take part in the event\, the organizer respectfully asks to contact her at least 24 hours prior to the event by replying to the confirmation email.  There are no substitutions.  Event organizer will replace participants.\nAll participants are expected to report to the playing field by 10:00 am.  The event organizer reserves the right to replace a participant if the participant is not present at this time.\nThe event organizers and the committee of the Slovenian Summer Camp are not liable for any injuries incurred during the tournaments.\nParticipants/volunteers are to behave in a sportsman-like manner and with respect to each other.\nSlovenian Sumer Camp has and enforces a “no dogs allowed” policy for all visitors.  Please leave your pets at home.\nParticipants/volunteers may be photographed during the event.  The photographs may be posted on the SSC website or used in other SSC media\, printed material or documents.  Participant’s name will appear on the Participant List on the event page.  No names will be associated with any photo.\n\n\n\n    Terms and conditions\n        *\n    \n    					\n			 I agree to the terms and conditions\n\n    \n    \n\n\n    Captcha\n        \n    \n    \n    \n    \n\n\n\n	\nSubmit\n\n\n\n\n\n	\n			\n			\n				If you are human\, leave this field blank.			\n			\n		\n		\n\n\n\n\n\n\n\n\n\n\n\n\nHave questions? Contact the organizers using the forms below.\n\n\n\nContact Maja Vlahovic\n\n\n\n\n\n\nContact Organizer – Maja Vlahovic\n\n\n\n\n\n\n\n\n    Name\n        *\n    \n    \n	\n		Name	\n\n	\n					\n				\n					Last				\n\n				Last			\n						\n				\n					First				\n\n				First			\n				\n\n\n    \n    \n\n\n    Email\n        *\n    \n    \n    \n    \n\n\n    Subject\n        *\n    \n    \n    \n    \n\n\n    Message\n        *\n    \n    \n    \n    \n\n\n    Captcha\n        \n    \n    \n    \n    \n\n\n	\nSubmit\n\n\n\n\n\n	\n			\n			\n				If you are human\, leave this field blank.			\n			\n		\n		\n\n\n\n\n\n\n\n\n\n\n\n\nContact Jana Vlahovic\n\n\n\n\n\n\nContact Organizer – Jana Vlahovic\n\n\n\n\n\n\n\n\n    Name\n        *\n    \n    \n	\n		Name	\n\n	\n					\n				\n					Last				\n\n				Last			\n						\n				\n					First				\n\n				First			\n				\n\n\n    \n    \n\n\n    Email\n        *\n    \n    \n    \n    \n\n\n    Subject\n        *\n    \n    \n    \n    \n\n\n    Message\n        *\n    \n    \n    \n    \n\n\n    Captcha\n        \n    \n    \n    \n    \n\n\n	\nSubmit\n\n\n\n\n\n	\n			\n			\n				If you are human\, leave this field blank.			\n			\n		\n		\n\n\n\n\n\n\n\n\n\n\n\n\nParticipants registered for this event\n\n\n \n\n\n\nParticipant name\n\n\n\n\nPodobnik Anton\n\n\nLuka Granic\n\n\nVlahovic Maja\n\n\nVlahovic Jana\n\n\nRichard Amy\n\n\nMcCormick Madeleine\n\n\nDi Fonzo Giulia\n\n\nNg Dominic\n\n\nFalzata Sofia\n\n\nSmolej Chris\n\n\nO’Brien Dennis\n\n\nstajan ben\n\n\nkent nathan\n\n\nrummo jason\n\n\nwhitehead cam\n\n\nDiamond Griffin\n\n\nMcCormick Teja\n\n\nUlcar Kristina\n\n\nHelme Matthew
URL:https://sloveniansummercamp.com/event/ultimate-frisbee-2/
CATEGORIES:Sports
ATTACH;FMTTYPE=image/png:https://sloveniansummercamp.com/wp-content/uploads/2025/01/ULTIMATE-FRISBEEJULY26compressed.png
END:VEVENT
BEGIN:VEVENT
DTSTART;TZID=America/Halifax:20250727T143000
DTEND;TZID=America/Halifax:20250727T180000
DTSTAMP:20260424T214225
CREATED:20250122T044341Z
LAST-MODIFIED:20250208T000318Z
UID:13354-1753626600-1753639200@sloveniansummercamp.com
SUMMARY:Table Tennis
DESCRIPTION:Ages 16+ \n\n\n\nOrganizer: Stan Ulcar \n\n\n\nRegistration is free. \n\n\n\nSign up in person at the Sports Deck from 2:30 to 3:00 pm. Event starts at 3:00 pm. \n\n\n\nSee you there! \n\n\n\n\n\n\n\nHave questions? Contact the organizer using the form below.\n\n\n\n\n\n\nContact Organizer – Stan Ulcar\n\n\n\n\n\n\n\n\n    Name\n        *\n    \n    \n	\n		Name	\n\n	\n					\n				\n					Last				\n\n				Last			\n						\n				\n					First				\n\n				First			\n				\n\n\n    \n    \n\n\n    Email\n        *\n    \n    \n    \n    \n\n\n    Subject\n        *\n    \n    \n    \n    \n\n\n    Message\n        *\n    \n    \n    \n    \n\n\n    Captcha\n        \n    \n    \n    \n    \n\n\n	\nSubmit\n\n\n\n\n\n	\n			\n			\n				If you are human\, leave this field blank.
URL:https://sloveniansummercamp.com/event/table-tennis-2/
CATEGORIES:Sports
ATTACH;FMTTYPE=image/png:https://sloveniansummercamp.com/wp-content/uploads/2025/01/TABLE-TENNIS-COPY-COMPRESSED.png
END:VEVENT
END:VCALENDAR