BEGIN:VCALENDAR
VERSION:2.0
PRODID:-//Slovenian Summer Camp - ECPv6.15.20//NONSGML v1.0//EN
CALSCALE:GREGORIAN
METHOD:PUBLISH
X-ORIGINAL-URL:https://sloveniansummercamp.com
X-WR-CALDESC:Events for Slovenian Summer Camp
REFRESH-INTERVAL;VALUE=DURATION:PT1H
X-Robots-Tag:noindex
X-PUBLISHED-TTL:PT1H
BEGIN:VTIMEZONE
TZID:America/Toronto
BEGIN:DAYLIGHT
TZOFFSETFROM:-0500
TZOFFSETTO:-0400
TZNAME:EDT
DTSTART:20250309T070000
END:DAYLIGHT
BEGIN:STANDARD
TZOFFSETFROM:-0400
TZOFFSETTO:-0500
TZNAME:EST
DTSTART:20251102T060000
END:STANDARD
BEGIN:DAYLIGHT
TZOFFSETFROM:-0500
TZOFFSETTO:-0400
TZNAME:EDT
DTSTART:20260308T070000
END:DAYLIGHT
BEGIN:STANDARD
TZOFFSETFROM:-0400
TZOFFSETTO:-0500
TZNAME:EST
DTSTART:20261101T060000
END:STANDARD
BEGIN:DAYLIGHT
TZOFFSETFROM:-0500
TZOFFSETTO:-0400
TZNAME:EDT
DTSTART:20270314T070000
END:DAYLIGHT
BEGIN:STANDARD
TZOFFSETFROM:-0400
TZOFFSETTO:-0500
TZNAME:EST
DTSTART:20271107T060000
END:STANDARD
END:VTIMEZONE
BEGIN:VEVENT
DTSTART;TZID=America/Toronto:20260705T114500
DTEND;TZID=America/Toronto:20260705T150000
DTSTAMP:20260424T151910
CREATED:20251110T170255Z
LAST-MODIFIED:20260105T181541Z
UID:22758-1783251900-1783263600@sloveniansummercamp.com
SUMMARY:Slovenski Dan
DESCRIPTION:Come join us for our 65th Slovenski Dan at the Slovenian Summer Camp and help us celebrate all things Slovenian. \n\n\n\nMass starts at 11:45 am.  \n\n\n\nThe kitchen will open at 1:00 pm to serve lunch prepared by our talented members.  \n\n\n\nEnjoy the cultural program starting at 3:00 pm then stay for the music and dancing.
URL:https://sloveniansummercamp.com/event/slovenski-dan-3/
CATEGORIES:Cultural Events
ATTACH;FMTTYPE=image/png:https://sloveniansummercamp.com/wp-content/uploads/2025/11/SLOVENSKI-DAN2026-compressed.png
END:VEVENT
BEGIN:VEVENT
DTSTART;TZID=America/Toronto:20260711T083000
DTEND;TZID=America/Toronto:20260711T180000
DTSTAMP:20260424T151910
CREATED:20260423T113507Z
LAST-MODIFIED:20260424T144335Z
UID:23196-1783758600-1783792800@sloveniansummercamp.com
SUMMARY:Balinanje
DESCRIPTION:Ages 16+ \n\n\n\nOrganizers: Val Koncan and Stan Ulcar \n\n\n\nSign up in person at the Balina Courts at 8:30 am. \n\n\n\nHave a question? Contact the organizers using the form below. \n\n\n\nThis is a private event for SSC members and their guests. \n\n\n\nSee you there! \n\n\n\n\n\n\n\n\nContact Organizer – Stan Ulcar\n\n\n\n\n\n\n\n\n    Name\n        *\n    \n    \n	\n		Name	\n\n	\n					\n				\n					Last				\n\n				Last			\n						\n				\n					First				\n\n				First			\n				\n\n\n    \n    \n\n\n    Email\n        *\n    \n    \n    \n    \n\n\n    Subject\n        *\n    \n    \n    \n    \n\n\n    Message\n        *\n    \n    \n    \n    \n\n\n    Captcha\n        \n    \n    \n    \n    \n\n\n	\nSubmit\n\n\n\n\n\n	\n			\n			\n				If you are human\, leave this field blank.
URL:https://sloveniansummercamp.com/event/balinanje-5/
CATEGORIES:Sports
END:VEVENT
BEGIN:VEVENT
DTSTART;TZID=America/Toronto:20260718T090000
DTEND;TZID=America/Toronto:20260718T190000
DTSTAMP:20260424T151910
CREATED:20260424T140231Z
LAST-MODIFIED:20260424T144504Z
UID:23230-1784365200-1784401200@sloveniansummercamp.com
SUMMARY:Volleyball 19+
DESCRIPTION:Online registration is now open. Online registration will close on July 17 at 12:00 noon. \n\n\n\nThis is a private event for SSC members and their guests. \n\n\n\n\n\n\n\n\n19+ Volleyball Registration\n\n\n\n\n\n\n\n\nParticipant information\n\n\n\n    Participant name\n        *\n    \n    \n	\n		Participant name	\n\n	\n					\n				\n					Last				\n\n				Last			\n						\n				\n					First				\n\n				First			\n				\n\n\n    \n    \n\n\n    Email\n        *\n    \n    \n    \n    \n\n\n    Phone\n        *\n    \n    \n    \n    \n\n\n    City\n        \n    \n    \n    \n    \n\n\n    Age\n        *\n    \n    \n    \n    \n\n\n    Gender\n        *\n    \n    		\n		-select-malefemale	\n	\n    \n    \n\n\n    Experience\n        *\n    \n    		\n		-select-beginner (I've touched a volleyball before but I'm not good)intermediate (I know how to play pretty well but I'm not fantastic)advanced (I've played on my high school team)strokovno (I'm basically a Farma pro)	\n	\n    \n    \n\n\n    Ancestry\n        *\n    \n    		\n		-select-I am SlovenianMy mother is SlovenianMy father is SlovenianMy parents are SlovenianMy grandmother is SlovenianMy grandfather is SlovenianMy grandparents are SlovenianMy spouse is SlovenianMy friend/teammate is Slovenian	\n	\n    \n    \n\n\n\nEmergency contact information\n\n\n\n    Emergency contact name\n        *\n    \n    \n	\n		Emergency contact name	\n\n	\n					\n				\n					Last				\n\n				Last			\n						\n				\n					First				\n\n				First			\n				\n\n\n    \n    \n\n\n    Emergency contact phone\n        *\n    \n    \n    \n    \n\n\n    Email\n        *\n    \n    \n    \n    \n\n\n    Relationship to participant\n        *\n    \n    \n    \n    \n\n\n\nAdditional information\n\n\n\n    Comments and requests for who you would like on your team\n        \n    \n    \n    \n    \n\n\n    How did you hear about the event? (check all that apply)\n        \n    \n    					\n			 email from Slovenian Summer Camp\n					\n			 website\n					\n			 digital ad at Slovenian Summer Camp\n					\n			 from a friend\n					\n			 I participated before\n					\n			 OtherOther\n\n    \n    \n\n\n    Would you like to receive emails about events at the Slovenian Summer Camp?\n        \n    \n    					\n			 no\n					\n			 yes\n\n    \n    \n\n\n\n\n			\n\n    Name\n        *\n    \n    \n	\n		Name	\n\n	\n					\n				\n					Last				\n\n				Last			\n						\n				\n					First				\n\n				First			\n				\n\n\n    \n    \n\n\n    Email\n        *\n    \n    \n    \n    \n\n\n\n\n\nTerms and conditions\n\n\n\n\nRegistration for this event is $10 per participant to be paid prior to the first game on the day of the event.  Lunch is included.\nOnline registration will close on July 11\, 2025 at 12:00 pm (noon).\nIf a participant can no longer take part in the event\, the organizer respectfully asks to contact her at least 24 hours prior to the event by replying to the confirmation email.  There are no substitutions.  Event organizer will replace participants.\nAll participants are expected to report to the Volleyball Courts at 9:00 am.  The event organizer reserves the right to replace a participant if the participant is not present at this time.\nThe event organizers and the committee of the Slovenian Summer Camp are not liable for any injuries incurred during the tournaments.\nParticipants/volunteers are to behave in a sportsman-like manner and with respect to each other.\nSlovenian Sumer Camp has and enforces a “no dogs allowed” policy for all visitors.  Please leave your pets at home.\nParticipants/volunteers may be photographed during the event.  The photographs may be posted on the SSC website or used in other SSC media\, printed material or documents.  Participant’s name will appear on the Participant List on the event page.  No names will be associated with any photo.\n\n\n\n    Terms and conditions\n        *\n    \n    					\n			 I agree to the terms and conditions\n\n    \n    \n\n\n    Captcha\n        \n    \n    \n    \n    \n\n\n\n	\nSubmit\n\n\n\n\n\n	\n			\n			\n				If you are human\, leave this field blank.
URL:https://sloveniansummercamp.com/event/volleyball-19-2/
CATEGORIES:Sports
END:VEVENT
BEGIN:VEVENT
DTSTART;TZID=America/Toronto:20260725T080000
DTEND;TZID=America/Toronto:20260725T170000
DTSTAMP:20260424T151910
CREATED:20260424T135046Z
LAST-MODIFIED:20260424T144725Z
UID:23223-1784966400-1784998800@sloveniansummercamp.com
SUMMARY:Farmapalooza
DESCRIPTION:Ultimate Frisbee \n\n\n\nAdult Pickleball \n\n\n\nThis is a private event for SSC members and their guests. \n\n\n\nMore info coming soon!
URL:https://sloveniansummercamp.com/event/farmapalooza/
CATEGORIES:Sports
END:VEVENT
BEGIN:VEVENT
DTSTART;TZID=America/Toronto:20260725T090000
DTEND;TZID=America/Toronto:20260725T170000
DTSTAMP:20260424T151910
CREATED:20260423T203904Z
LAST-MODIFIED:20260423T205321Z
UID:23213-1784970000-1784998800@sloveniansummercamp.com
SUMMARY:Adult Pickleball
DESCRIPTION:Ages 20+ \n\n\n\nOrganizer: John Ulcar \n\n\n\nRegistration is free. \n\n\n\nPlease wear running shoes and comfortable attire. No sandals or flip flops! \n\n\n\nOnline registration is now open. Online registration will close on July 24\, 2026 at 20:59. \n\n\n\n\n\n\nAdult Pickle Ball Registration\n\n\n\n\n\n\n\n\nParticipant information\n\n\n\n    Participant name\n        *\n    \n    \n	\n		Participant name	\n\n	\n					\n				\n					Last				\n\n				Last			\n						\n				\n					First				\n\n				First			\n				\n\n\n    \n    \n\n\n    Email\n        *\n    \n    \n    \n    \n\n\n    Phone\n        *\n    \n    \n    \n    \n\n\n    City\n        \n    \n    \n    \n    \n\n\n    Age\n        *\n    \n    \n    \n    \n\n\n    Gender\n        *\n    \n    		\n		-select-malefemale	\n	\n    \n    \n\n\n    Experience\n        *\n    \n    		\n		-select-beginnerintermediateadvanced	\n	\n    \n    \n\n\n    Ancestry\n        *\n    \n    		\n		-select-I am SlovenianMy mother is SlovenianMy father is SlovenianMy parents are SlovenianMy grandmother is SlovenianMy grandfather is SlovenianMy grandparents are SlovenianMy spouse is SlovenianMy friend/teammate is Slovenian	\n	\n    \n    \n\n\n\nEmergency contact information\n\n\n\n    Emergency contact name\n        *\n    \n    \n	\n		Emergency contact name	\n\n	\n					\n				\n					Last				\n\n				Last			\n						\n				\n					First				\n\n				First			\n				\n\n\n    \n    \n\n\n    Emergency contact phone\n        *\n    \n    \n    \n    \n\n\n    Email\n        *\n    \n    \n    \n    \n\n\n    Relationship to participant\n        *\n    \n    \n    \n    \n\n\n\nAdditional information\n\n\n\n    Comments and requests\n        \n    \n    \n    \n    \n\n\n    How did you hear about the event? (check all that apply)\n        \n    \n    					\n			 email from Slovenian Summer Camp\n					\n			 website\n					\n			 digital ad at Slovenian Summer Camp\n					\n			 from a friend\n					\n			 I participated before\n					\n			 OtherOther\n\n    \n    \n\n\n    Would you like to receive emails about events at the Slovenian Summer Camp?\n        \n    \n    					\n			 no\n					\n			 yes\n\n    \n    \n\n\n\n\n			\n\n    Name\n        *\n    \n    \n	\n		Name	\n\n	\n					\n				\n					Last				\n\n				Last			\n						\n				\n					First				\n\n				First			\n				\n\n\n    \n    \n\n\n    Email\n        *\n    \n    \n    \n    \n\n\n\n\n\nTerms and conditions\n\n\n\n\nRegistration for this event is free.\nOnline registration will close on July 24\, 2025 at 23:59.\nIf a participant can no longer take part in the event\, the organizer respectfully asks to contact him at least 24 hours prior to the event by replying to the confirmation email.  There are no substitutions.  Event organizer will replace participants.\nAll participants are expected to report to the Hall by 8:45 am.  The event organizer reserves the right to replace a participant if the participant is not present at this time.\nThe participants are asked to wear running shoes and comfortable attire.  No sandals or flip flops.\nThe event organizers and the committee of the Slovenian Summer Camp are not liable for any injuries incurred during the tournaments.\nParticipants/volunteers are to behave in a sportsman-like manner and with respect to each other.\nSlovenian Sumer Camp has and enforces a “no dogs allowed” policy for all visitors.  Please leave your pets at home.\nParticipants/volunteers may be photographed during the event.  The photographs may be posted on the SSC website or used in other SSC media\, printed material or documents.  Participants’ name will appear on the Participant List on the event page.   No names will be associated with any photo.\n\n\n\n    Terms and conditions\n        *\n    \n    					\n			 I agree to the terms and conditions\n\n    \n    \n\n\n    Captcha\n        \n    \n    \n    \n    \n\n\n\n	\nSubmit\n\n\n\n\n\n	\n			\n			\n				If you are human\, leave this field blank.
URL:https://sloveniansummercamp.com/event/adult-pickleball/
CATEGORIES:Sports
END:VEVENT
BEGIN:VEVENT
DTSTART;TZID=America/Toronto:20260725T090000
DTEND;TZID=America/Toronto:20260725T170000
DTSTAMP:20260424T151910
CREATED:20260424T140655Z
LAST-MODIFIED:20260424T150504Z
UID:23233-1784970000-1784998800@sloveniansummercamp.com
SUMMARY:Ultimate Frisbee 19+
DESCRIPTION:Organizer – Tea Falzata \n\n\n\nIncludes lunch – if you are not a member of the farma\, entrance to the grounds should be paid at the gate or to the lifeguard ($10 for the day\, $15 for the weekend) \n\n\n\nThis is a private event for SSC members and their guests. \n\n\n\n\n\n\nUltimate Frisbee Registration\n\n\n\n\n\n\n\n\nParticipant information\n\n\n\n    Participant name\n        *\n    \n    \n	\n		Participant name	\n\n	\n					\n				\n					Last				\n\n				Last			\n						\n				\n					First				\n\n				First			\n				\n\n\n    \n    \n\n\n    Email\n        *\n    \n    \n    \n    \n\n\n    Phone\n        *\n    \n    \n    \n    \n\n\n    City\n        \n    \n    \n    \n    \n\n\n    Age\n        *\n    \n    \n    \n    \n\n\n    Gender\n        *\n    \n    		\n		-select-malefemale	\n	\n    \n    \n\n\n    Experience\n        *\n    \n    		\n		-select-beginnerintermediateadvanced	\n	\n    \n    \n\n\n    Ancestry\n        *\n    \n    		\n		-select-I am SlovenianMy mother is SlovenianMy father is SlovenianMy parents are SlovenianMy grandmother is SlovenianMy grandfather is SlovenianMy grandparents are SlovenianMy spouse is SlovenianMy friend/teammate is Slovenian	\n	\n    \n    \n\n\n	T-shirt size\n		*\n	\n			\n		-select-extra smallsmallmediumlargeextra large	\n	\n	\n	\n\n\n\nEmergency contact information\n\n\n\n    Emergency contact name\n        *\n    \n    \n	\n		Emergency contact name	\n\n	\n					\n				\n					Last				\n\n				Last			\n						\n				\n					First				\n\n				First			\n				\n\n\n    \n    \n\n\n    Emergency contact phone\n        *\n    \n    \n    \n    \n\n\n    Email\n        *\n    \n    \n    \n    \n\n\n    Relationship to participant\n        *\n    \n    \n    \n    \n\n\n\nAdditional information\n\n\n\n    Comments and requests\n        \n    \n    \n    \n    \n\n\n    How did you hear about the event? (check all that apply)\n        \n    \n    					\n			 email from Slovenian Summer Camp\n					\n			 website\n					\n			 digital ad at Slovenian Summer Camp\n					\n			 from a friend\n					\n			 I participated before\n					\n			 OtherOther\n\n    \n    \n\n\n    Would you like to receive emails about events at the Slovenian Summer Camp?\n        \n    \n    					\n			 no\n					\n			 yes\n\n    \n    \n\n\n\n\n			\n\n    Name\n        *\n    \n    \n	\n		Name	\n\n	\n					\n				\n					Last				\n\n				Last			\n						\n				\n					First				\n\n				First			\n				\n\n\n    \n    \n\n\n    Email\n        *\n    \n    \n    \n    \n\n\n\n\n\nTerms and conditions\n\n\n\n\nRegistration for this event is $10 per participant to be paid prior to the first game on the day of the event.  Lunch is included.\nOnline registration will close on July 24\, 2025 at 23:59.\nIf a participant can no longer take part in the event\, the organizer respectfully asks to contact her at least 24 hours prior to the event by replying to the confirmation email.  There are no substitutions.  Event organizer will replace participants.\nAll participants are expected to report to the playing field by 10:00 am.  The event organizer reserves the right to replace a participant if the participant is not present at this time.\nThe event organizers and the committee of the Slovenian Summer Camp are not liable for any injuries incurred during the tournaments.\nParticipants/volunteers are to behave in a sportsman-like manner and with respect to each other.\nSlovenian Sumer Camp has and enforces a “no dogs allowed” policy for all visitors.  Please leave your pets at home.\nParticipants/volunteers may be photographed during the event.  The photographs may be posted on the SSC website or used in other SSC media\, printed material or documents.  Participant’s name will appear on the Participant List on the event page.  No names will be associated with any photo.\n\n\n\n    Terms and conditions\n        *\n    \n    					\n			 I agree to the terms and conditions\n\n    \n    \n\n\n    Captcha\n        \n    \n    \n    \n    \n\n\n\n	\nSubmit\n\n\n\n\n\n	\n			\n			\n				If you are human\, leave this field blank.
URL:https://sloveniansummercamp.com/event/ultimate-frisbee-19-2/
CATEGORIES:Sports
END:VEVENT
END:VCALENDAR